BEGIN:VCALENDAR
PRODID:NingEventWidget-v1
VERSION:2.0
METHOD:PUBLISH
BEGIN:VTIMEZONE
TZID:America/Los_Angeles
X-LIC-LOCATION:America/Los_Angeles
BEGIN:DAYLIGHT
TZOFFSETFROM:-0800
TZOFFSETTO:-0700
TZNAME:PDT
DTSTART:19700308T020000
RRULE:FREQ=YEARLY;BYMONTH=3;BYDAY=2SU
END:DAYLIGHT
BEGIN:STANDARD
TZOFFSETFROM:-0700
TZOFFSETTO:-0800
TZNAME:PST
DTSTART:19701101T020000
RRULE:FREQ=YEARLY;BYMONTH=11;BYDAY=1SU
END:STANDARD
END:VTIMEZONE
BEGIN:VEVENT
UID:1464587:Event:30595
DTSTAMP:20260421T051927Z
SUMMARY:Steel Pulse
DESCRIPTION:May 5, 2009\nSteel Pulse\n\nAt The Grand Ballroom at The R
 egency Center, San Francisco, CA\nShow time: 8:00pm\nDoor time: 7:00pm
 \nAge: All Ages+\n\nFor more information visit https://trueskool.com/e
 vents/steel-pulse
DTSTART;TZID=America/Los_Angeles:20090505T180000
DTEND;TZID=America/Los_Angeles:20090506T190000
CATEGORIES:reggae, dancehall, roots
LOCATION:The Regency Center, San Francisco, CA
WEBSITE:http://goldenvoice.com/shows/details/?id=22191
URL:http://goldenvoice.com/shows/details/?id=22191
CONTACT:
ORGANIZER:Golden Voice
ATTACH;FMTTYPE="image/jpeg":http://storage.ning.com/topology/rest/1.0/
 file/get/2247856060?profile=original
ATTENDEE;ROLE=REQ-PARTICIPANT;PARTSTAT=ACCEPTED;RSVP=TRUE;CN="Ren the 
 Vinyl Archaeologist":https://trueskool.com/profile/xh51jvilojur
END:VEVENT
END:VCALENDAR
