BEGIN:VCALENDAR
PRODID:NingEventWidget-v1
VERSION:2.0
METHOD:PUBLISH
BEGIN:VTIMEZONE
TZID:America/Los_Angeles
X-LIC-LOCATION:America/Los_Angeles
BEGIN:DAYLIGHT
TZOFFSETFROM:-0800
TZOFFSETTO:-0700
TZNAME:PDT
DTSTART:19700308T020000
RRULE:FREQ=YEARLY;BYMONTH=3;BYDAY=2SU
END:DAYLIGHT
BEGIN:STANDARD
TZOFFSETFROM:-0700
TZOFFSETTO:-0800
TZNAME:PST
DTSTART:19701101T020000
RRULE:FREQ=YEARLY;BYMONTH=11;BYDAY=1SU
END:STANDARD
END:VTIMEZONE
BEGIN:VEVENT
UID:1464587:Event:673865
DTSTAMP:20260421T072443Z
SUMMARY:Steel Pulse
DESCRIPTION:ENTER TO WIN A PAIR OF TICKETS. WINNER WILL BE DRAWN RANDO
 MLY AND ANNOUNCED 2 DAYS PRIOR TO EVENT.\r\n\r\n\r\n\r\nSaturday May 2
 6, 2018\r\nSteel Pulse\r\n\r\nThe UC Theatre Taube Family Music Hall\r
 \n 2036 University Avenue, near Downtown Berkeley BART \r\n Berkeley, 
 CA\r\nDoors: 7:00 PM . Show: 8:00 PM\r\n$37.50\r\n>> BUY TICKETS\r\n\r
 \n\r\n\n\nFor more information visit https://trueskool.com/events/stee
 l-pulse-1
DTSTART;TZID=America/Los_Angeles:20180526T200000
DTEND;TZID=America/Los_Angeles:20180526T230000
CATEGORIES:"bay area", oakland, "san francisco", "san jose", berkeley
LOCATION:The UC Theatre, Berkeley
WEBSITE:https://www.ticketfly.com/purchase/event/1647126?_ga=2.4658187
 1.998431024.1521109760-1020605821.1521109759
URL:https://www.ticketfly.com/purchase/event/1647126?_ga=2.46581871.99
 8431024.1521109760-1020605821.1521109759
CONTACT:
ORGANIZER;CN="Editor's Pick":https://trueskool.com/profile/RentheVinyl
 Archaeologist
ATTACH;FMTTYPE="image/jpeg":http://storage.ning.com/topology/rest/1.0/
 file/get/2248007030?profile=original
ATTENDEE;ROLE=REQ-PARTICIPANT;PARTSTAT=ACCEPTED;RSVP=TRUE;CN="Elisa Bj
 eldanes":https://trueskool.com/profile/ElisaBjeldanes
ATTENDEE;ROLE=REQ-PARTICIPANT;PARTSTAT=ACCEPTED;RSVP=TRUE;CN="Editor's
  Pick":https://trueskool.com/profile/RentheVinylArchaeologist
ATTENDEE;ROLE=REQ-PARTICIPANT;PARTSTAT=TENTATIVE;RSVP=TRUE;CN=strilici
 ous:https://trueskool.com/profile/strilicious
END:VEVENT
END:VCALENDAR
