BEGIN:VCALENDAR
PRODID:NingEventWidget-v1
VERSION:2.0
METHOD:PUBLISH
BEGIN:VTIMEZONE
TZID:America/Los_Angeles
X-LIC-LOCATION:America/Los_Angeles
BEGIN:DAYLIGHT
TZOFFSETFROM:-0800
TZOFFSETTO:-0700
TZNAME:PDT
DTSTART:19700308T020000
RRULE:FREQ=YEARLY;BYMONTH=3;BYDAY=2SU
END:DAYLIGHT
BEGIN:STANDARD
TZOFFSETFROM:-0700
TZOFFSETTO:-0800
TZNAME:PST
DTSTART:19701101T020000
RRULE:FREQ=YEARLY;BYMONTH=11;BYDAY=1SU
END:STANDARD
END:VTIMEZONE
BEGIN:VEVENT
UID:1464587:Event:54137
DTSTAMP:20260421T033019Z
SUMMARY:Steady : presented by Qoöl, Fix & Coda
DESCRIPTION:Thank you to all who came to Steady in March, it was quite
  a kick-off event! To those who missed it, we present to the second in
 stallment on Saturday, April 24th. We're pulling together an amazing n
 ight of music and some special visual treats for you, including the re
 turn of Radiant Atmospheres.\n\nRSVP on the Steady website to get on t
 he Guest List:\nhttp://www.steadysf.com/rsvp\n\n...or show your Qoöl 
 card at the door and we'll let you in free until midnight!\n\nDOWNSTAI
 RS (House, Techno)\n10:00 - Jeff Richmond\n11:00 - Kevin Knapp & Spesh
 \n1:00 - Forest Green\n2:30 - Jason Knight\n\nUPSTAIRS (Electro, Break
  Funkno)\n10:00 - J:miah\n11:00 - Laird\n12:30 - Jive\n1:45- Matt Andr
 ade\n\nfull details at: http://www.steadysf.com\n\nlighting by: http:/
 /www.radiantatmospheres.com\n\nFor more information visit https://true
 skool.com/events/steady-presented-by-qooel-fix-1
DTSTART;TZID=America/Los_Angeles:20100424T220000
DTEND;TZID=America/Los_Angeles:20100425T040000
CATEGORIES:electro, breaks, house, techno
LOCATION:Paradise Lounge, San Francisco, CA
WEBSITE:
URL:
CONTACT:
ORGANIZER;CN=Kt:https://trueskool.com/profile/Kt
ATTACH;FMTTYPE="image/jpeg":
ATTENDEE;ROLE=REQ-PARTICIPANT;PARTSTAT=ACCEPTED;RSVP=TRUE;CN=Kt:https:
 //trueskool.com/profile/Kt
END:VEVENT
END:VCALENDAR
