BEGIN:VCALENDAR
PRODID:NingEventWidget-v1
VERSION:2.0
METHOD:PUBLISH
BEGIN:VTIMEZONE
TZID:America/Los_Angeles
X-LIC-LOCATION:America/Los_Angeles
BEGIN:DAYLIGHT
TZOFFSETFROM:-0800
TZOFFSETTO:-0700
TZNAME:PDT
DTSTART:19700308T020000
RRULE:FREQ=YEARLY;BYMONTH=3;BYDAY=2SU
END:DAYLIGHT
BEGIN:STANDARD
TZOFFSETFROM:-0700
TZOFFSETTO:-0800
TZNAME:PST
DTSTART:19701101T020000
RRULE:FREQ=YEARLY;BYMONTH=11;BYDAY=1SU
END:STANDARD
END:VTIMEZONE
BEGIN:VEVENT
UID:1464587:Event:54956
DTSTAMP:20260420T193255Z
SUMMARY:Steady
DESCRIPTION:What: Steady: Presented by Qool, FiX, and Coda\nWhere: Par
 adise Lounge, 1501 Folsom (@ 11th), San Francisco, CA\nWhen: Saturday,
  April 24, 10pm-4am\nCost: $10 (free before midnight with RSVP on Webs
 ite: http://www.steadysf.com/rsvp)\n\nThank you to all who came to Ste
 ady in March, it was an awesome kick-off event! Check out pictures, vi
 deos, and mixes of March Steady here: http://steadysf.com/wp/?p=172\n\
 nOn Saturday April 24, join us for the April edition of Steady at the 
 Paradise Lounge. This event is free until midnight with your QoÃ¶l Qar
 d, or with guest list signup at steadysf.com/rsvp\n\nRSVP for the gues
 t list then get set for a full-on clubbing experience with two rooms o
 f sound and light featuring DJs Forest Green (Cute Fang Recordings), K
 evin Knapp (Leftroom, murmer, LoÃ¶q), Spesh (LoÃ¶q, QoÃ¶l, djspesh.com
 ), Laird (www.djlaird.org, psychofunkodiscodelic), Jive (FiX), J:miah 
 (Open Circle Project), Jeff Richmond (Coda), Jason Knight (Coda), Matt
  Andrade (Coda).\n\nDOWNSTAIRS (House, Techno)\n10:00 - Jeff Richmond 
 (Coda, djjeffrichmond.com)\n11:00 - Kevin Knapp (Leftroom, murmer, LoÃ
 ¶q) & Spesh (LoÃ¶q, QoÃ¶l, djspesh.com)\n1:00 - Forest Green (Cute Fan
 g Recordings)\n2:30 - Jason Knight (Coda, djjasonknight.com)\n\nUPSTAI
 RS (Electro, Break Funkno)\n10:00 - J:miah (Open Circle Project)\n11:0
 0 - Laird (www.djlaird.org, psychofunkodiscodelic)\n12:30 - Jive (FiX 
 - fixsf.com, jivebeatz.com)\n1:45 - Matt Andrade (Coda, djmattandrade.
 com)\n\nwww.steadysf.com\n\n\n\nFor more information visit https://tru
 eskool.com/events/steady-1
DTSTART;TZID=America/Los_Angeles:20100422T180000
DTEND;TZID=America/Los_Angeles:20100422T190000
CATEGORIES:electro, house, techno, breaks, funkno
LOCATION:Paradise Lounge, SF, CA
WEBSITE:http://www.steadysf.com
URL:http://www.steadysf.com
CONTACT:(415) 252-5018
ORGANIZER;CN=SteadySF:https://trueskool.com/profile/SteadySF
ATTACH;FMTTYPE="image/jpeg":
ATTENDEE;ROLE=REQ-PARTICIPANT;PARTSTAT=ACCEPTED;RSVP=TRUE;CN=SteadySF:
 https://trueskool.com/profile/SteadySF
END:VEVENT
END:VCALENDAR
