BEGIN:VCALENDAR
PRODID:NingEventWidget-v1
VERSION:2.0
METHOD:PUBLISH
BEGIN:VTIMEZONE
TZID:America/Los_Angeles
X-LIC-LOCATION:America/Los_Angeles
BEGIN:DAYLIGHT
TZOFFSETFROM:-0800
TZOFFSETTO:-0700
TZNAME:PDT
DTSTART:19700308T020000
RRULE:FREQ=YEARLY;BYMONTH=3;BYDAY=2SU
END:DAYLIGHT
BEGIN:STANDARD
TZOFFSETFROM:-0700
TZOFFSETTO:-0800
TZNAME:PST
DTSTART:19701101T020000
RRULE:FREQ=YEARLY;BYMONTH=11;BYDAY=1SU
END:STANDARD
END:VTIMEZONE
BEGIN:VEVENT
UID:1464587:Event:42096
DTSTAMP:20260420T213112Z
SUMMARY:Stap[e 10 year anniversary
DESCRIPTION:\n\n======================================================
 ==========\n\nStap[e was founded 10 years ago by a group of East Coast
  transplants who wanted to bring a fresh sound to San Francisco's boom
 ing dance music scene. With its innovative mix of future house and dee
 p techno, Stap[e continues to thrive in the Bay Area. Co-founders Fil 
 Latorre and Killswitch's DJ Javaight are proud to present one of their
  earliest influences, Onionz, along with \"San Francisco's very own ti
 dal wave of techno,\" Alland Byallo, to help celebrate Stap[e's 10th a
 nniversary.\n\nOnionz has more than 30 years of experience and has roc
 ked dancefloors across the globe with his unique blend of house, techn
 o and disco. Alland Byallo is another music globetrotter, who also cre
 ates his own productions with Nightlight Music and is a founding resid
 ent of one of SF's best techno parties, [KONTROL]. As the founders of 
 Stap[e look back at a decade of rhythms and revelry, they are proud to
  feature two artists who share their vision for a flourishing future i
 n electronic music.\n\n\n\n\n\n\nFor more information visit https://tr
 ueskool.com/events/stape-10-year-anniversary
DTSTART;TZID=America/Los_Angeles:20091108T220000
DTEND;TZID=America/Los_Angeles:20091109T020000
CATEGORIES:house, techno, disco
LOCATION:Triple Crown, San francisco,CA
WEBSITE:http://www.facebook.com/home.php#/event.php?eid=164477547050&r
 ef=ts
URL:http://www.facebook.com/home.php#/event.php?eid=164477547050&ref=t
 s
CONTACT:
ORGANIZER;CN="Amplify Promo":https://trueskool.com/profile/AmplifyProm
 o
ATTACH;FMTTYPE="image/jpeg":
ATTENDEE;ROLE=REQ-PARTICIPANT;PARTSTAT=ACCEPTED;RSVP=TRUE;CN="Amplify 
 Promo":https://trueskool.com/profile/AmplifyPromo
END:VEVENT
END:VCALENDAR
