BEGIN:VCALENDAR
PRODID:NingEventWidget-v1
VERSION:2.0
METHOD:PUBLISH
BEGIN:VTIMEZONE
TZID:America/Los_Angeles
X-LIC-LOCATION:America/Los_Angeles
BEGIN:DAYLIGHT
TZOFFSETFROM:-0800
TZOFFSETTO:-0700
TZNAME:PDT
DTSTART:19700308T020000
RRULE:FREQ=YEARLY;BYMONTH=3;BYDAY=2SU
END:DAYLIGHT
BEGIN:STANDARD
TZOFFSETFROM:-0700
TZOFFSETTO:-0800
TZNAME:PST
DTSTART:19701101T020000
RRULE:FREQ=YEARLY;BYMONTH=11;BYDAY=1SU
END:STANDARD
END:VTIMEZONE
BEGIN:VEVENT
UID:1464587:Event:841101
DTSTAMP:20260419T193752Z
SUMMARY:STANLEY CLARKE
DESCRIPTION:STANLEY CLARKE\r\nFEBRUARY 13, 2026 DOORS: 7:00PM / SHOW: 
 7:30PM\r\nFEBRUARY 13, 2026 DOORS: 9:15PM / SHOW: 9:30PM\r\nFEBRUARY 1
 4, 2026 DOORS: 7:00PM / SHOW: 7:30PM\r\nFEBRUARY 14, 2026 DOORS: 9:15P
 M / SHOW: 9:30PM\r\nFEBRUARY 15, 2026 DOORS: 6:30PM / SHOW: 7:00PM\r\n
 FEBRUARY 15, 2026 DOORS: 8:45 PM / SHOW: 9:00PM\r\nYoshi's 510 Embarca
 dero West, Oakland, CA\n\nFor more information visit https://trueskool
 .com/events/stanley-clarke-2
DTSTART;TZID=America/Los_Angeles:20260213T193000
DTEND;TZID=America/Los_Angeles:20260215T233000
CATEGORIES:"bay area", oakland, "san francisco", "san jose", berkeley
LOCATION:Yoshi's, Oakland
WEBSITE:https://yoshis.com/events/buy-tickets/stanley-clarke-17/detail
URL:https://yoshis.com/events/buy-tickets/stanley-clarke-17/detail
CONTACT:
ORGANIZER;CN="Editor's Pick":https://trueskool.com/profile/RentheVinyl
 Archaeologist
ATTACH;FMTTYPE="image/jpeg":https://storage.ning.com/topology/rest/1.0
 /file/get/31002209052?profile=original
ATTENDEE;ROLE=REQ-PARTICIPANT;PARTSTAT=ACCEPTED;RSVP=TRUE;CN="Editor's
  Pick":https://trueskool.com/profile/RentheVinylArchaeologist
END:VEVENT
END:VCALENDAR
