BEGIN:VCALENDAR
PRODID:NingEventWidget-v1
VERSION:2.0
METHOD:PUBLISH
BEGIN:VTIMEZONE
TZID:America/Los_Angeles
X-LIC-LOCATION:America/Los_Angeles
BEGIN:DAYLIGHT
TZOFFSETFROM:-0800
TZOFFSETTO:-0700
TZNAME:PDT
DTSTART:19700308T020000
RRULE:FREQ=YEARLY;BYMONTH=3;BYDAY=2SU
END:DAYLIGHT
BEGIN:STANDARD
TZOFFSETFROM:-0700
TZOFFSETTO:-0800
TZNAME:PST
DTSTART:19701101T020000
RRULE:FREQ=YEARLY;BYMONTH=11;BYDAY=1SU
END:STANDARD
END:VTIMEZONE
BEGIN:VEVENT
UID:1464587:Event:292242
DTSTAMP:20260421T053851Z
SUMMARY:Spring Evening with Evelyn Champagne King and Friends
DESCRIPTION:SMA Entertainment presents \"Evelyn Champagne King\", with
  Saxophonist \"Greg Chambers\" , also \"Bump City\" Tower of Power Tri
 bute Band and Sounds by DJ DN3.\n\nFor more information visit https://
 trueskool.com/events/spring-evening-with-evelyn-champagne-king-and-fri
 ends-5
DTSTART;TZID=America/Los_Angeles:20140322T180000
DTEND;TZID=America/Los_Angeles:20140322T230000
CATEGORIES:live, "music/jazz", old, scool
LOCATION:Hutchins Street Square, Lodi CA.
WEBSITE:http://www.loditickets.com
URL:http://www.loditickets.com
CONTACT:209 333-5550
ORGANIZER:SME Entertainment
ATTACH;FMTTYPE="image/jpeg":http://storage.ning.com/topology/rest/1.0/
 file/get/2247955846?profile=original
ATTENDEE;ROLE=REQ-PARTICIPANT;PARTSTAT=ACCEPTED;RSVP=TRUE;CN=Michelle:
 https://trueskool.com/profile/Michelle531
END:VEVENT
END:VCALENDAR
