BEGIN:VCALENDAR
PRODID:NingEventWidget-v1
VERSION:2.0
METHOD:PUBLISH
BEGIN:VTIMEZONE
TZID:America/Los_Angeles
X-LIC-LOCATION:America/Los_Angeles
BEGIN:DAYLIGHT
TZOFFSETFROM:-0800
TZOFFSETTO:-0700
TZNAME:PDT
DTSTART:19700308T020000
RRULE:FREQ=YEARLY;BYMONTH=3;BYDAY=2SU
END:DAYLIGHT
BEGIN:STANDARD
TZOFFSETFROM:-0700
TZOFFSETTO:-0800
TZNAME:PST
DTSTART:19701101T020000
RRULE:FREQ=YEARLY;BYMONTH=11;BYDAY=1SU
END:STANDARD
END:VTIMEZONE
BEGIN:VEVENT
UID:1464587:Event:65719
DTSTAMP:20260421T065745Z
SUMMARY:Soundproof Live with Soulit + DJ Killagraham + Noa- Solo live 
 painting
DESCRIPTION:Soundproof Live w/ special guest from Tokyo Soulit\n@Rocki
 t Room\nSunday September 12, 2010\n9pm- | Door $10 | 21+\n\nFeaturing:
 \nSoundproof (Hip Hip & Rap / SF)\nSoulit (J-Funkadelic / Tokyo)\nDJ K
 illagraham (Hip-Hop / FTC SF)\n\nLive painting by\nNoa- (S.I.R. / SF)\
 n\n\nAbout artists:\n\n[Soundproof]\nNever, have five individuals fall
 en together in the same place so perfectly. Each from a different part
  of the United States, their lives led them all to the same playing fi
 eld. In August of 2009 Jared DePatto, Johnathan Robbins, Stefen Hender
 son, Quintin Hawkins, and Ryan Worley met in San Francisco at the Acad
 emy of Art University. All playing together on the AAU baseball team, 
 their connection and bond was ignited instantly through their common p
 assion for music. Soon after spending day and night together in their 
 dorms, creating beats and writing verses they decided to call themselv
 es “SoundProof.”\nThe first self-released mixtape titled “Simpli
 city Then” hit over 100 digital downloads in the first hour of their
  release. This fall, SoundProof will kick off the school year with liv
 e shows around the bay area, along with the release of their second 20
  track mixtape “Simplicity Now” in September 2010.\n\n[Soulit]\nYo
 u can say SOULIT's music is the only one of its kind in the world. For
 med by a female vocalist Achi, the guitarist Atsushi, bassist Hiro and
  the drummer Tetsuya in 2008, the band has released 3 albums and has b
 een playing shows internationally, rocking jam-packed venues with thei
 r groovy, funky and soulful sound. Starting from July 2010, the band i
 s on tour across the globe from Tokyo to Hong Kong, and United States.
 \n\n[DJ Killagraham]\nArt director of FTC Worldwide, a skate shop base
 d in SF, Killagraham have been djing at many local events such as PST 
 with local hero DJ Sake1 at Eve Lounge, SKY with DJ Shortkut, Apollo a
 nd Sake1, Champion Sound, FORTHECITY party Tokyo with Zenlarock, and S
 hing02, KRAZYKIDSRADIO show and their events. Killagraham seamlessly m
 ixes sounds of breaks, Hip Hop, R&B and electronic.\n\n\n[Noa-]\nNoa-,
  aka Yasushi Matsui, pursues an installation art he calls \"live paint
 \" based in San Francisco Bay Area. He aims to leave a cultural footpr
 int for aspiring street artists, the way he says well-known artists li
 ke David Ellis and the Barnstormers in New York have done for him. Noa
 - has been performing live painting at numerous galleries and music ev
 ents in Japan, San Francisco and Los Angeles, stemming from his monthl
 y livepainting session at Shoe Biz Adidas on Haight, and often collabo
 rates with many contemporary painters and street artists international
 ly.\n\n\n\nLinks:\nhttp://www.myspace.com/listentosoundproof\nhttp://s
 oulit.heteml.jp/news_info.html\nhttp://www.mixcrate.com/grahamjames\nh
 ttp://www.followyourline.com/\n\n\nhttp://www.youtube.com/watch?v=LWQb
 mV9OYNo&feature=player_embedded#!\n\nFor more information visit https:
 //trueskool.com/events/soundproof-live-with-soulit
DTSTART;TZID=America/Los_Angeles:20100912T210000
DTEND;TZID=America/Los_Angeles:20100913T010000
CATEGORIES:san, francisco
LOCATION:Rockit Room
WEBSITE:http://www.rock-it-room.com/index.php
URL:http://www.rock-it-room.com/index.php
CONTACT:
ORGANIZER:Nathan / S.I.R.
ATTACH;FMTTYPE="image/jpeg":http://storage.ning.com/topology/rest/1.0/
 file/get/2247887950?profile=original
ATTENDEE;ROLE=REQ-PARTICIPANT;PARTSTAT=ACCEPTED;RSVP=TRUE;CN="Aoi Yama
 guchi":https://trueskool.com/profile/AoiYamaguchi
END:VEVENT
END:VCALENDAR
