BEGIN:VCALENDAR
PRODID:NingEventWidget-v1
VERSION:2.0
METHOD:PUBLISH
BEGIN:VTIMEZONE
TZID:America/Los_Angeles
X-LIC-LOCATION:America/Los_Angeles
BEGIN:DAYLIGHT
TZOFFSETFROM:-0800
TZOFFSETTO:-0700
TZNAME:PDT
DTSTART:19700308T020000
RRULE:FREQ=YEARLY;BYMONTH=3;BYDAY=2SU
END:DAYLIGHT
BEGIN:STANDARD
TZOFFSETFROM:-0700
TZOFFSETTO:-0800
TZNAME:PST
DTSTART:19701101T020000
RRULE:FREQ=YEARLY;BYMONTH=11;BYDAY=1SU
END:STANDARD
END:VTIMEZONE
BEGIN:VEVENT
UID:1464587:Event:154874
DTSTAMP:20260421T083731Z
SUMMARY:SOUNDPIECES TUESDAYS ♠ REILLY STEEL ♣ COMMODORE 69 ♥ MOR
 E TBA ♦
DESCRIPTION:https://www.facebook.com/events/326505940795339/\n\n►REI
 LLY STEEL - Top Billin / Senseless / Hot N Heavy / Rock It Science / B
 rap Dem!- Brooklyn via SF ►COMMODORE 69 - Hot N Heavy - SF ►SOUNDP
 IECES POSSE ►MORE TBA\n\nFor more information visit https://trueskoo
 l.com/events/soundpieces-tuesdays-reilly-steel-commodore-69-more-tba
DTSTART;TZID=America/Los_Angeles:20130108T220000
DTEND;TZID=America/Los_Angeles:20130109T020000
CATEGORIES:san, francisco
LOCATION:Monarch, San Francisco
WEBSITE:https://www.facebook.com/events/326505940795339/
URL:https://www.facebook.com/events/326505940795339/
CONTACT:
ORGANIZER:
ATTACH;FMTTYPE="image/jpeg":http://storage.ning.com/topology/rest/1.0/
 file/get/2247932238?profile=original
ATTENDEE;ROLE=REQ-PARTICIPANT;PARTSTAT=ACCEPTED;RSVP=TRUE;CN=topnotch:
 https://trueskool.com/profile/topnotch
END:VEVENT
END:VCALENDAR
