BEGIN:VCALENDAR
PRODID:NingEventWidget-v1
VERSION:2.0
METHOD:PUBLISH
BEGIN:VTIMEZONE
TZID:America/Los_Angeles
X-LIC-LOCATION:America/Los_Angeles
BEGIN:DAYLIGHT
TZOFFSETFROM:-0800
TZOFFSETTO:-0700
TZNAME:PDT
DTSTART:19700308T020000
RRULE:FREQ=YEARLY;BYMONTH=3;BYDAY=2SU
END:DAYLIGHT
BEGIN:STANDARD
TZOFFSETFROM:-0700
TZOFFSETTO:-0800
TZNAME:PST
DTSTART:19701101T020000
RRULE:FREQ=YEARLY;BYMONTH=11;BYDAY=1SU
END:STANDARD
END:VTIMEZONE
BEGIN:VEVENT
UID:1464587:Event:158240
DTSTAMP:20260422T003733Z
SUMMARY:Soundpieces// Nick Hook + more
DESCRIPTION:https://www.facebook.com/events/370144916415970/\n\nThe fo
 llowing 3 Soundpieces Tuesday Events are THE MOST SPECIAL of the year 
 - it's The Aquarian Soundpieces Bday Trilogy with BOGL, RYURY, & SPARK
 UHL celebrating each others birthdays back to back. This only happens 
 once a year SO GET WITH IT & CELEBRATE WITH US!! ►NICK HOOK · Scion
  AV/LuckyMe - NYC►WHORES · Grimey//Bad Looks - Sacramento►DLANDAU
  · Surefire - SF►SOUNDPIECES RESIDENTS & SECRET SPECIAL FRIENDS \n\
 nFor more information visit https://trueskool.com/events/soundpieces-n
 ick-hook-more
DTSTART;TZID=America/Los_Angeles:20130122T220000
DTEND;TZID=America/Los_Angeles:20130123T020000
CATEGORIES:san, "francisco/california"
LOCATION:Monarch 101 6th st
WEBSITE:https://www.facebook.com/events/370144916415970/
URL:https://www.facebook.com/events/370144916415970/
CONTACT:
ORGANIZER:
ATTACH;FMTTYPE="image/jpeg":http://storage.ning.com/topology/rest/1.0/
 file/get/2247932089?profile=original
ATTENDEE;ROLE=REQ-PARTICIPANT;PARTSTAT=ACCEPTED;RSVP=TRUE;CN=topnotch:
 https://trueskool.com/profile/topnotch
END:VEVENT
END:VCALENDAR
