BEGIN:VCALENDAR
PRODID:NingEventWidget-v1
VERSION:2.0
METHOD:PUBLISH
BEGIN:VTIMEZONE
TZID:America/Los_Angeles
X-LIC-LOCATION:America/Los_Angeles
BEGIN:DAYLIGHT
TZOFFSETFROM:-0800
TZOFFSETTO:-0700
TZNAME:PDT
DTSTART:19700308T020000
RRULE:FREQ=YEARLY;BYMONTH=3;BYDAY=2SU
END:DAYLIGHT
BEGIN:STANDARD
TZOFFSETFROM:-0700
TZOFFSETTO:-0800
TZNAME:PST
DTSTART:19701101T020000
RRULE:FREQ=YEARLY;BYMONTH=11;BYDAY=1SU
END:STANDARD
END:VTIMEZONE
BEGIN:VEVENT
UID:1464587:Event:229848
DTSTAMP:20260421T151016Z
SUMMARY:Souls of Mischief (Los Angeles)
DESCRIPTION:\nEl Rey TheatreLos Angeles, CA 08:00 PM\n\nSouls of Mish
 ief with A-1 and The Black Opera Details: Souls of Mischief, A-1\nFin
 d Tickets »\n\n\n\n\nFor more information visit https://trueskool.co
 m/events/souls-of-mischief-los-angeles
DTSTART;TZID=America/Los_Angeles:20130816T200000
DTEND;TZID=America/Los_Angeles:20130816T230000
CATEGORIES:"los angeles"
LOCATION:El Rey Theatre, Los Angeles
WEBSITE:http://www.ticketmaster.com/souls-of-mishief-with-a1-and-los-a
 ngeles-california-08-16-2013/event/2C004AAE17D15615?artistid=763975&ma
 jorcatid=10001&minorcatid=3&tm_link=artist_msg-0_2C004AAE17D15615
URL:http://www.ticketmaster.com/souls-of-mishief-with-a1-and-los-angel
 es-california-08-16-2013/event/2C004AAE17D15615?artistid=763975&majorc
 atid=10001&minorcatid=3&tm_link=artist_msg-0_2C004AAE17D15615
CONTACT:
ORGANIZER;CN="Editor's Pick":https://trueskool.com/profile/RentheVinyl
 Archaeologist
ATTACH;FMTTYPE="image/jpeg":http://storage.ning.com/topology/rest/1.0/
 file/get/2247945043?profile=original
ATTENDEE;ROLE=REQ-PARTICIPANT;PARTSTAT=ACCEPTED;RSVP=TRUE;CN="Editor's
  Pick":https://trueskool.com/profile/RentheVinylArchaeologist
END:VEVENT
END:VCALENDAR
