BEGIN:VCALENDAR
PRODID:NingEventWidget-v1
VERSION:2.0
METHOD:PUBLISH
BEGIN:VTIMEZONE
TZID:America/Los_Angeles
X-LIC-LOCATION:America/Los_Angeles
BEGIN:DAYLIGHT
TZOFFSETFROM:-0800
TZOFFSETTO:-0700
TZNAME:PDT
DTSTART:19700308T020000
RRULE:FREQ=YEARLY;BYMONTH=3;BYDAY=2SU
END:DAYLIGHT
BEGIN:STANDARD
TZOFFSETFROM:-0700
TZOFFSETTO:-0800
TZNAME:PST
DTSTART:19701101T020000
RRULE:FREQ=YEARLY;BYMONTH=11;BYDAY=1SU
END:STANDARD
END:VTIMEZONE
BEGIN:VEVENT
UID:1464587:Event:62979
DTSTAMP:20260420T230741Z
SUMMARY:Souls of Mischief Live in Fairfax,CA!!!
DESCRIPTION:COME SEE SOULS OF MISCHIEF (HIEROGLYPHICS) DESTROY THE STA
 GE AT 19 BROADWAY IN FAIRFAX!!!\n\nALSO PERFORMING IS...\n\nCATALYST\n
 ---------------------------\nTHE MIDWEST COAST\n----------------------
 -----\nELIQUATE\n---------------------------\nB.A.D. POETRY\n---------
 ------------------\nMC WORDPLAY\n\n& MORE...\n\nGET YOUR PRESALE TIX A
 SAP AT WWW.19BROADWAY.COM\n\nDON'T SLEEP ON THIS SHOW!!!\n\n\"93 TIL I
 NFINITY\"\n\nFor more information visit https://trueskool.com/events/s
 ouls-of-mischief-live-in
DTSTART;TZID=America/Los_Angeles:20100814T210000
DTEND;TZID=America/Los_Angeles:20100815T020000
CATEGORIES:hip, hop
LOCATION:19 BROADWAY, FAIRFAX, CA
WEBSITE:http://www.19broadway.com
URL:http://www.19broadway.com
CONTACT:
ORGANIZER;CN="Simon Sez":https://trueskool.com/profile/SimonSez
ATTACH;FMTTYPE="image/jpeg":http://storage.ning.com/topology/rest/1.0/
 file/get/2247882177?profile=original
ATTENDEE;ROLE=REQ-PARTICIPANT;PARTSTAT=ACCEPTED;RSVP=TRUE;CN="Simon Se
 z":https://trueskool.com/profile/SimonSez
END:VEVENT
END:VCALENDAR
