BEGIN:VCALENDAR
PRODID:NingEventWidget-v1
VERSION:2.0
METHOD:PUBLISH
BEGIN:VTIMEZONE
TZID:America/Los_Angeles
X-LIC-LOCATION:America/Los_Angeles
BEGIN:DAYLIGHT
TZOFFSETFROM:-0800
TZOFFSETTO:-0700
TZNAME:PDT
DTSTART:19700308T020000
RRULE:FREQ=YEARLY;BYMONTH=3;BYDAY=2SU
END:DAYLIGHT
BEGIN:STANDARD
TZOFFSETFROM:-0700
TZOFFSETTO:-0800
TZNAME:PST
DTSTART:19701101T020000
RRULE:FREQ=YEARLY;BYMONTH=11;BYDAY=1SU
END:STANDARD
END:VTIMEZONE
BEGIN:VEVENT
UID:1464587:Event:62508
DTSTAMP:20260420T213732Z
SUMMARY:SoulHOUSE XI..a key to the city production (Art/DJs/Live Band)
DESCRIPTION:SoulHOUSE XI..a key to the city production\n\nFeaturing a 
 live performance by Eat Me Drink Me\n\nDJ sets by Duserock, Justin Tim
 e, Ben Abstrakt, Ed Mazur & DJ RobJob\n\nJustin Time (mixerfriendly)\n
 Ben Abstrakt (Rad Boyz, SF)\nEd Mazur (House on the Hill)\nDJ RobJob (
 bassyx)\n\nThe Chrysalis Den Exhibit (fantastic art/photo exhibit)\n2 
 for 1 drafts for early arrivals\n\nProject One Gallery\n251 Rhode Isla
 nd Street @ 16th\nSan Francisco, CA\nwww.p1sf.com\n$5 cover\n21+\n8p.m
 .-2a.m.\n\n\nFlyer by Justin Miller\n\nFor more information visit http
 s://trueskool.com/events/soulhouse-xia-key-to-the-city
DTSTART;TZID=America/Los_Angeles:20100804T200000
DTEND;TZID=America/Los_Angeles:20100805T020000
CATEGORIES:"downtemp/house"
LOCATION:Project One Gallery
WEBSITE:http://www.p1sf.com
URL:http://www.p1sf.com
CONTACT:
ORGANIZER;CN="Keyatta Shade":https://trueskool.com/profile/KeyattaShad
 e
ATTACH;FMTTYPE="image/jpeg":http://storage.ning.com/topology/rest/1.0/
 file/get/2247882305?profile=original
ATTENDEE;ROLE=REQ-PARTICIPANT;PARTSTAT=ACCEPTED;RSVP=TRUE;CN="Keyatta 
 Shade":https://trueskool.com/profile/KeyattaShade
END:VEVENT
END:VCALENDAR
