BEGIN:VCALENDAR
PRODID:NingEventWidget-v1
VERSION:2.0
METHOD:PUBLISH
BEGIN:VTIMEZONE
TZID:America/Los_Angeles
X-LIC-LOCATION:America/Los_Angeles
BEGIN:DAYLIGHT
TZOFFSETFROM:-0800
TZOFFSETTO:-0700
TZNAME:PDT
DTSTART:19700308T020000
RRULE:FREQ=YEARLY;BYMONTH=3;BYDAY=2SU
END:DAYLIGHT
BEGIN:STANDARD
TZOFFSETFROM:-0700
TZOFFSETTO:-0800
TZNAME:PST
DTSTART:19701101T020000
RRULE:FREQ=YEARLY;BYMONTH=11;BYDAY=1SU
END:STANDARD
END:VTIMEZONE
BEGIN:VEVENT
UID:1464587:Event:61954
DTSTAMP:20260419T095054Z
SUMMARY:SoulHOUSE X: (Art/DJs), a key to the city production
DESCRIPTION:Dalen Poland, LoveIt!\nPrentice Thomas\nThe Worker, Fictio
 n\nmr cool keif, PeePGame.com\nJ-million, akuse\n\nNew Exhibit: The Ch
 rysalis Den (this show is off the chain)\n2 for 1 drafts for early arr
 ivals\n\nWed July 21st\nProject One Gallery\n251 Rhode Island Street @
  16th\nSan Francisco, CA\n$5 cover\n21+\n8p.m.-2a.m.\n\nFor more infor
 mation visit https://trueskool.com/events/soulhouse-x-artdjs-a-key-to
DTSTART;TZID=America/Los_Angeles:20100721T210000
DTEND;TZID=America/Los_Angeles:20100722T020000
CATEGORIES:"house/electro/techno/break-beat"
LOCATION:Project One Gallery
WEBSITE:http://www.p1sf.com
URL:http://www.p1sf.com
CONTACT:
ORGANIZER;CN="Keyatta Shade":https://trueskool.com/profile/KeyattaShad
 e
ATTACH;FMTTYPE="image/jpeg":http://storage.ning.com/topology/rest/1.0/
 file/get/2247882066?profile=original
ATTENDEE;ROLE=REQ-PARTICIPANT;PARTSTAT=ACCEPTED;RSVP=TRUE;CN="Keyatta 
 Shade":https://trueskool.com/profile/KeyattaShade
END:VEVENT
END:VCALENDAR
