BEGIN:VCALENDAR
PRODID:NingEventWidget-v1
VERSION:2.0
METHOD:PUBLISH
BEGIN:VTIMEZONE
TZID:America/Los_Angeles
X-LIC-LOCATION:America/Los_Angeles
BEGIN:DAYLIGHT
TZOFFSETFROM:-0800
TZOFFSETTO:-0700
TZNAME:PDT
DTSTART:19700308T020000
RRULE:FREQ=YEARLY;BYMONTH=3;BYDAY=2SU
END:DAYLIGHT
BEGIN:STANDARD
TZOFFSETFROM:-0700
TZOFFSETTO:-0800
TZNAME:PST
DTSTART:19701101T020000
RRULE:FREQ=YEARLY;BYMONTH=11;BYDAY=1SU
END:STANDARD
END:VTIMEZONE
BEGIN:VEVENT
UID:1464587:Event:70879
DTSTAMP:20260420T163345Z
SUMMARY:soulHOUSE Thanksgiving Special Event: Live Performances/DJ's
DESCRIPTION:soulHOUSE Thanksgiving Special\nCome dance with us before 
 the Turkey Day Holiday!!!\nLive Vocals:\nAlice Stands (live electronic
 /vocals)\nMiss Katt Cavallo (jazz/soul) featuring Duserock\n\n\nDj's:\
 nGreg Eversoul - Underground Kingdom, Early Show\nNick B. -house/elect
 ro\nDuserock\nSaxaphone addition by Brandon Michael McKee\n\n\nElement
  Lounge\n1028 Geary Street\nSan Francisco, CA 94116\n8pm-2am\n$5 Cover
 \n21+\nTrue Recession Busters: Element recently lowered the prices of 
 their entire drink menu\n\nFor more information visit https://trueskoo
 l.com/events/soulhouse-thanksgiving-special
DTSTART;TZID=America/Los_Angeles:20101123T200000
DTEND;TZID=America/Los_Angeles:20101124T020000
CATEGORIES:san, francisco, ca
LOCATION:Element Lounge, San Francisco, CA
WEBSITE:
URL:
CONTACT:
ORGANIZER;CN="Keyatta Shade":https://trueskool.com/profile/KeyattaShad
 e
ATTACH;FMTTYPE="image/jpeg":http://storage.ning.com/topology/rest/1.0/
 file/get/2247894241?profile=original
ATTENDEE;ROLE=REQ-PARTICIPANT;PARTSTAT=ACCEPTED;RSVP=TRUE;CN="Keyatta 
 Shade":https://trueskool.com/profile/KeyattaShade
END:VEVENT
END:VCALENDAR
