BEGIN:VCALENDAR
PRODID:NingEventWidget-v1
VERSION:2.0
METHOD:PUBLISH
BEGIN:VTIMEZONE
TZID:America/Los_Angeles
X-LIC-LOCATION:America/Los_Angeles
BEGIN:DAYLIGHT
TZOFFSETFROM:-0800
TZOFFSETTO:-0700
TZNAME:PDT
DTSTART:19700308T020000
RRULE:FREQ=YEARLY;BYMONTH=3;BYDAY=2SU
END:DAYLIGHT
BEGIN:STANDARD
TZOFFSETFROM:-0700
TZOFFSETTO:-0800
TZNAME:PST
DTSTART:19701101T020000
RRULE:FREQ=YEARLY;BYMONTH=11;BYDAY=1SU
END:STANDARD
END:VTIMEZONE
BEGIN:VEVENT
UID:1464587:Event:318351
DTSTAMP:20260421T083639Z
SUMMARY:SoulHOUSE at SF's newest spot MERCER!
DESCRIPTION:A night of deep soulful house, funk, disco & soul music! H
 it the dance floor in the main room or relax and enjoy art while you c
 atch up with friends on the new couches in the lounge.   Featuring:  L
 e Charm (We & The Music) 9-10pm Lawrence Petty (Suburban Dance Club) 1
 0-11:30 Timoteo Gigante (MOM DJs) 11:30-1 Zach Walker ( Pink Mammoth) 
 1-2am  Vocal Performance by Bridney Reese! Ms. Reese is bringing somet
 hing new to the music industry! With her debut album Poison she blends
  together soul, alternative, and reggae music! She is a Bay Area nativ
 e who is ready to take the world by their ears! Bridney wrote all of h
 er lyrics and co-produced her tracks! Have a listen at bridneyreese.co
 m or check her out on Facebook at Facebook.com/bridneyreesemusic  We w
 ill also be celebrating Zach Walker's bday!!!  A Key to the City Produ
 ction   Apparel by Mixerfriendly.com  EARLY BIRD TICKETS! https://www.
 eventbrite.com/e/soulhouse-returns-to-sfs-newest-venue-mercer-tickets-
 10628013675  SoulHOUSE would also like to introduce you to another of 
 of SF's newest gems. Something we can all be proud of: Old Skool Cafe.
   Keep reading for a chance to win.   We like Free Stuff!!!! Just by p
 urchasing a ticket to tonight's soulHOUSE you'll have a chance to win 
 a $100 gift certificate to Old Skool Cafe, with fine dining, impressiv
 e live entertainment, and the inspiring Old Skool youth wait staff; yo
 u will enjoy a unique experience that you wont soon forget. http://www
 .oldskoolcafe.org/menu-2   Mercer!  255 Rhode Island Street SF, CA 21+
  Full Bar Free before 10pm with facebook yes reply $10 otherwise and a
 fter until 11pm $15 after 11pm Save by purchasing an early bird ticket
 : https://www.eventbrite.com/e/soulhouse-returns-to-sfs-newest-venue-m
 ercer-tickets-10628013675  Flyer by Vivian Belzaguy, Idea Garden - Cre
 ativity & Consulting\n\nFor more information visit https://trueskool.c
 om/events/soulhouse-at-sf-s-newest-spot-mercer
DTSTART;TZID=America/Los_Angeles:20140228T210000
DTEND;TZID=America/Los_Angeles:20140301T020000
CATEGORIES:mercer
LOCATION:MERCER
WEBSITE:https://www.eventbrite.com/e/soulhouse-returns-to-sfs-newest-v
 enue-mercer-tickets-10628013675
URL:https://www.eventbrite.com/e/soulhouse-returns-to-sfs-newest-venue
 -mercer-tickets-10628013675
CONTACT:
ORGANIZER;CN="Keyatta Shade":https://trueskool.com/profile/KeyattaShad
 e
ATTACH;FMTTYPE="image/jpeg":http://storage.ning.com/topology/rest/1.0/
 file/get/2247957012?profile=original
ATTENDEE;ROLE=REQ-PARTICIPANT;PARTSTAT=ACCEPTED;RSVP=TRUE;CN="Keyatta 
 Shade":https://trueskool.com/profile/KeyattaShade
END:VEVENT
END:VCALENDAR
