BEGIN:VCALENDAR
PRODID:NingEventWidget-v1
VERSION:2.0
METHOD:PUBLISH
BEGIN:VTIMEZONE
TZID:America/Los_Angeles
X-LIC-LOCATION:America/Los_Angeles
BEGIN:DAYLIGHT
TZOFFSETFROM:-0800
TZOFFSETTO:-0700
TZNAME:PDT
DTSTART:19700308T020000
RRULE:FREQ=YEARLY;BYMONTH=3;BYDAY=2SU
END:DAYLIGHT
BEGIN:STANDARD
TZOFFSETFROM:-0700
TZOFFSETTO:-0800
TZNAME:PST
DTSTART:19701101T020000
RRULE:FREQ=YEARLY;BYMONTH=11;BYDAY=1SU
END:STANDARD
END:VTIMEZONE
BEGIN:VEVENT
UID:1464587:Event:159810
DTSTAMP:20260421T183311Z
SUMMARY:SoulHOUSE! A  night of soul, funk, disco and deep soulful hous
 e (Live Performance/Art Exhibit!)
DESCRIPTION:SoulHOUSE returns with our first event of 2013 with a nigh
 t of soul, funk, disco and deep soulful house.  Special live performa
 nce by Marielle. \nKimmy Le funk (soul phunkton)\nWax Junkie (PITCH/O
 tis Lounge, Mixerfriendly)\nTimoteo (MOM DJs)\nDJ Gordo Cabeza (MOM DJ
 s)\n\nSpecial Live performance by Marielle (Infusion Music Movement)\n
 Art Exhibit: Badass! by Rene Garcia\nVendors:\nBabydaal, hand-crafted 
 jewelry (Eastern tribal and Northern India)\nEMOKI: Animal ears you co
 ntrol with your mind!\n\n2 for 1 vodka specials for early arrivals\nFl
 yer by Daniel Schwartz, danielnyc@gmail.com\n\nFor more information vi
 sit https://trueskool.com/events/soulhouse-a-night-of-soul-funk-disco-
 and-deep-soulful-house-live
DTSTART;TZID=America/Los_Angeles:20130124T210000
DTEND;TZID=America/Los_Angeles:20130125T020000
CATEGORIES:soulhouse, "san francisco"
LOCATION:Project One Gallery, San Francisco, CA
WEBSITE:http://www.p1sf.com
URL:http://www.p1sf.com
CONTACT:
ORGANIZER;CN="Keyatta Shade":https://trueskool.com/profile/KeyattaShad
 e
ATTACH;FMTTYPE="image/jpeg":http://storage.ning.com/topology/rest/1.0/
 file/get/2247932432?profile=original
ATTENDEE;ROLE=REQ-PARTICIPANT;PARTSTAT=ACCEPTED;RSVP=TRUE;CN="Keyatta 
 Shade":https://trueskool.com/profile/KeyattaShade
END:VEVENT
END:VCALENDAR
