BEGIN:VCALENDAR
PRODID:NingEventWidget-v1
VERSION:2.0
METHOD:PUBLISH
BEGIN:VTIMEZONE
TZID:America/Los_Angeles
X-LIC-LOCATION:America/Los_Angeles
BEGIN:DAYLIGHT
TZOFFSETFROM:-0800
TZOFFSETTO:-0700
TZNAME:PDT
DTSTART:19700308T020000
RRULE:FREQ=YEARLY;BYMONTH=3;BYDAY=2SU
END:DAYLIGHT
BEGIN:STANDARD
TZOFFSETFROM:-0700
TZOFFSETTO:-0800
TZNAME:PST
DTSTART:19701101T020000
RRULE:FREQ=YEARLY;BYMONTH=11;BYDAY=1SU
END:STANDARD
END:VTIMEZONE
BEGIN:VEVENT
UID:1464587:Event:70979
DTSTAMP:20260420T144912Z
SUMMARY:SOUL SUNDAYS is celebrating its’ 6th Anniversary on Nov. 21,
  2010.
DESCRIPTION:SOUL SUNDAYS is celebrating its’ 6th Anniversary on Nov.
  21, 2010.\n\nSix years of pioneering nightlife in The Bay Area for th
 e mature, sexy and sophisticated crowd.\n\nIf you haven't experienced 
 a SOUL SUNDAYS Anniversary Party, come on out and join the fun. It's g
 oing to be a great and festive occasion, including a wonderful soul co
 mbo of a Live Band, The Real, performing with the SOUL SUNDAYS DJs and
  a few “Special” Surprises.\n\nAlong with the Anniversary Party, w
 e will be celebrating the November birthdays all SCORPIOS, especially 
 SS Family members Kyle “DJ Babybrother”, Tiffany Gipson and Desira
 y McFall.\n\nThe best selection of Classic SOUL and Modern R&B, dancin
 g, cocktails, and socializing with beautiful people - where else would
  you want to be?\n\nAs is customary on special events and holidays, th
 e cover will be $10 all evening.\nEarly arrival is suggested.\n\nSee Y
 a on Sunday.\n\nFor more information visit https://trueskool.com/event
 s/soul-sundays-is-celebrating
DTSTART;TZID=America/Los_Angeles:20101121T190000
DTEND;TZID=America/Los_Angeles:20101122T013000
CATEGORIES:bay, area
LOCATION:Arsimona Lounge, Oakland, CA
WEBSITE:http://www.facebook.com/pages/SoulSundays-Live/
URL:http://www.facebook.com/pages/SoulSundays-Live/
CONTACT:
ORGANIZER;CN=MissdINFO:https://trueskool.com/profile/MissdINfo
ATTACH;FMTTYPE="image/jpeg":http://storage.ning.com/topology/rest/1.0/
 file/get/2247884131?profile=original
ATTENDEE;ROLE=REQ-PARTICIPANT;PARTSTAT=ACCEPTED;RSVP=TRUE;CN=MissdINFO
 :https://trueskool.com/profile/MissdINfo
END:VEVENT
END:VCALENDAR
