BEGIN:VCALENDAR
PRODID:NingEventWidget-v1
VERSION:2.0
METHOD:PUBLISH
BEGIN:VTIMEZONE
TZID:America/Los_Angeles
X-LIC-LOCATION:America/Los_Angeles
BEGIN:DAYLIGHT
TZOFFSETFROM:-0800
TZOFFSETTO:-0700
TZNAME:PDT
DTSTART:19700308T020000
RRULE:FREQ=YEARLY;BYMONTH=3;BYDAY=2SU
END:DAYLIGHT
BEGIN:STANDARD
TZOFFSETFROM:-0700
TZOFFSETTO:-0800
TZNAME:PST
DTSTART:19701101T020000
RRULE:FREQ=YEARLY;BYMONTH=11;BYDAY=1SU
END:STANDARD
END:VTIMEZONE
BEGIN:VEVENT
UID:1464587:Event:69204
DTSTAMP:20260420T163320Z
SUMMARY:Soul Sundays Halloween Bash
DESCRIPTION:The SOUL SUNDAYS HALLOWEEN BASH goes down Oct.. 31st from 
 7pm -1 :30am.\n\nCome in the best of festive spirits as we party the n
 ight away you as parade around SOUL SUNDAYS in your best Halloween att
 ire.\n\nThe Soul Sundays DJS (DJ Babybrother and DJ Cedrix) will play 
 nothing but the best in soul, funk and a variety of musical genres to 
 make this the Party of Parties this Halloween.\n\nCostumes are NOT man
 datory for entry, but much appreciated,, there will be few door prizes
  for costume pageantry, as well as and other giveaways.\n\nOf course, 
 the Arsimona staff will be ready for those who enjoy cocktails and the
  excellent menu.\n\nWe will have a few surprises for you all, so you m
 ay want to arrive early for a treat. No tricks allowed... unless that 
 is part of your Halloween costume.\n\nFor more information visit https
 ://trueskool.com/events/soul-sundays-halloween-bash
DTSTART;TZID=America/Los_Angeles:20101031T190000
DTEND;TZID=America/Los_Angeles:20101101T013000
CATEGORIES:east, bay
LOCATION:Arsimonas Lounge
WEBSITE:http://www.facebook.com/event.php?eid=137660506284932
URL:http://www.facebook.com/event.php?eid=137660506284932
CONTACT:
ORGANIZER;CN=MissdINFO:https://trueskool.com/profile/MissdINfo
ATTACH;FMTTYPE="image/jpeg":http://storage.ning.com/topology/rest/1.0/
 file/get/2247884425?profile=original
ATTENDEE;ROLE=REQ-PARTICIPANT;PARTSTAT=ACCEPTED;RSVP=TRUE;CN=MissdINFO
 :https://trueskool.com/profile/MissdINfo
END:VEVENT
END:VCALENDAR
