BEGIN:VCALENDAR
PRODID:NingEventWidget-v1
VERSION:2.0
METHOD:PUBLISH
BEGIN:VTIMEZONE
TZID:America/Los_Angeles
X-LIC-LOCATION:America/Los_Angeles
BEGIN:DAYLIGHT
TZOFFSETFROM:-0800
TZOFFSETTO:-0700
TZNAME:PDT
DTSTART:19700308T020000
RRULE:FREQ=YEARLY;BYMONTH=3;BYDAY=2SU
END:DAYLIGHT
BEGIN:STANDARD
TZOFFSETFROM:-0700
TZOFFSETTO:-0800
TZNAME:PST
DTSTART:19701101T020000
RRULE:FREQ=YEARLY;BYMONTH=11;BYDAY=1SU
END:STANDARD
END:VTIMEZONE
BEGIN:VEVENT
UID:1464587:Event:632413
DTSTAMP:20260421T065309Z
SUMMARY:SOUL SLAM SF: PRINCE & MJ \"10 YEAR ANNIVERSARY\"
DESCRIPTION:On Saturday, July 11th, Massive Selector, fresco & Keistar
  Productions present the 10 YEAR ANNIVERSARY of a Bay Area summer trad
 ition. SOUL SLAM SF10: PRINCE AND MICHAEL JACKSON returns to MEZZANINE
  for the ultimate tribute to pop music’s biggest icons! Come and cel
 ebrate this thing called LIFE and dance to the MUSIC of BOTH Michael J
 ackson and Prince! Party goers and music lovers alike know that SOUL S
 LAM is more than just a party... It's an experience! Featuring DJ SPIN
 NA (NYC) Along with PROOF | HAKOBO | KING MOST Hosted by TOP TEN SOCIA
 L Tickets Box Office: soulslamsf.com Venue: mezzaninesf.com Bottle Ser
 vice: 415.625.8880 or info@mezzaninesf.com\n\nFor more information vis
 it https://trueskool.com/events/soul-slam-sf-prince-mj-10-year-anniver
 sary
DTSTART;TZID=America/Los_Angeles:20150711T210000
DTEND;TZID=America/Los_Angeles:20150712T040000
CATEGORIES:soul, slam, san, francisco, bay, area, michael, jackson, pr
 ince, hiphop, funk, classics
LOCATION:mezzanine, san francisco CA
WEBSITE:http://soulslamsf.com
URL:http://soulslamsf.com
CONTACT:
ORGANIZER:massive Selector, fresco & Keistar Productions present
ATTACH;FMTTYPE="image/jpeg":http://storage.ning.com/topology/rest/1.0/
 file/get/2247977758?profile=original
ATTENDEE;ROLE=REQ-PARTICIPANT;PARTSTAT=ACCEPTED;RSVP=TRUE;CN="m.deep.m
 usic":https://trueskool.com/profile/mdeepmusic
ATTENDEE;ROLE=REQ-PARTICIPANT;PARTSTAT=ACCEPTED;RSVP=TRUE;CN=marky:htt
 ps://trueskool.com/profile/marky
END:VEVENT
END:VCALENDAR
