BEGIN:VCALENDAR
PRODID:NingEventWidget-v1
VERSION:2.0
METHOD:PUBLISH
BEGIN:VTIMEZONE
TZID:America/Los_Angeles
X-LIC-LOCATION:America/Los_Angeles
BEGIN:DAYLIGHT
TZOFFSETFROM:-0800
TZOFFSETTO:-0700
TZNAME:PDT
DTSTART:19700308T020000
RRULE:FREQ=YEARLY;BYMONTH=3;BYDAY=2SU
END:DAYLIGHT
BEGIN:STANDARD
TZOFFSETFROM:-0700
TZOFFSETTO:-0800
TZNAME:PST
DTSTART:19701101T020000
RRULE:FREQ=YEARLY;BYMONTH=11;BYDAY=1SU
END:STANDARD
END:VTIMEZONE
BEGIN:VEVENT
UID:1464587:Event:648150
DTSTAMP:20260421T064800Z
SUMMARY:Soul Slam: Prince & Michael Jackson
DESCRIPTION:Saturday, June 4th, 2016 Massive Selector, fresco, and Kei
 star present SOUL SLAM SF: PRINCE & MICHAEL JACKSON @ Mezzanine, 444 J
 essie St., San Francisco 21+ | 9:00PM-4:00AM | Cover $25+ Tickets: sou
 lslamsf.com\n14 years ago, what started as a tribute to then living le
 gends Prince & Michael Jackson, by DJ Spinna and Keistar in New York h
 as turned into a celebration of life, music and legacy. Since 2005, So
 ul Slam: Prince & Michael Jackson has provided Bay Area super-fans an 
 event to show their appreciation and love for these two musical icons.
  As we come to terms with life in the after world, we promise to conti
 nue to do justice, honor, and respect the legacies of Michael Jackson 
 and now Prince.   Join us Saturday, June 4th 2016 at Mezzanine as we p
 ay special tribute to Prince and Michael Jackson through song and danc
 e at the 11th annual Soul Slam SF with DJ Spinna (NY.) Local heavyweig
 ht DJ’s Hakobo, Proof, and King Most will also be in the mix, along 
 with host Top Ten Social. This year is dedicated to the one-and-only P
 rince and all his disciples (The Time, Jimmy Jam & Terry Lewis, Sheila
  E, Alexander O’Neal, Vanity 6, Apollonia, Morris Day & More.)   Sta
 rring  DJ SPINNA (NYC)   Along with  HAKOBO  KING MOST  PROOF   Hosted
  by  TOP TEN SOCIAL   Bottle Service: 415.625.8880 or bottleservice@me
 zzaninesf.com\n\nFor more information visit https://trueskool.com/even
 ts/soul-slam-prince-michael-jackson
DTSTART;TZID=America/Los_Angeles:20160604T210000
DTEND;TZID=America/Los_Angeles:20160605T040000
CATEGORIES:san, francisco, prince, michael, jackson, djspinna, nyc, tr
 ibute
LOCATION:Mezzanine
WEBSITE:http://soulslamsf.com
URL:http://soulslamsf.com
CONTACT:
ORGANIZER:Massive Selector, fresco & Keistar
ATTACH;FMTTYPE="image/jpeg":http://storage.ning.com/topology/rest/1.0/
 file/get/2247990136?profile=original
ATTENDEE;ROLE=REQ-PARTICIPANT;PARTSTAT=ACCEPTED;RSVP=TRUE;CN=marky:htt
 ps://trueskool.com/profile/marky
END:VEVENT
END:VCALENDAR
