BEGIN:VCALENDAR
PRODID:NingEventWidget-v1
VERSION:2.0
METHOD:PUBLISH
BEGIN:VTIMEZONE
TZID:America/Los_Angeles
X-LIC-LOCATION:America/Los_Angeles
BEGIN:DAYLIGHT
TZOFFSETFROM:-0800
TZOFFSETTO:-0700
TZNAME:PDT
DTSTART:19700308T020000
RRULE:FREQ=YEARLY;BYMONTH=3;BYDAY=2SU
END:DAYLIGHT
BEGIN:STANDARD
TZOFFSETFROM:-0700
TZOFFSETTO:-0800
TZNAME:PST
DTSTART:19701101T020000
RRULE:FREQ=YEARLY;BYMONTH=11;BYDAY=1SU
END:STANDARD
END:VTIMEZONE
BEGIN:VEVENT
UID:1464587:Event:73875
DTSTAMP:20260425T165456Z
SUMMARY:SOUL SESSIONS (Los Angeles)
DESCRIPTION:\nSOUL SESSIONS\nHOUSE SHOES | VIBES & STUFF RADIO | ILHAM
 E | DJ THUMBPRINT\nJanuary 14, 2011\n \nGrand Star\n943 N. Broadway, 
 Chinatown\nLos Angeles, CA 90012\nPhone: (213) 626-2285\nAges 21+\ndo
 ors at 9pm\n$5 before 10:30pm / $10 after\nhttp://www.soulsessionslive
 .com\n\n\n\nFor more information visit https://trueskool.com/events/so
 ul-sessions-los-angeles
DTSTART;TZID=America/Los_Angeles:20110114T210000
DTEND;TZID=America/Los_Angeles:20110115T020000
CATEGORIES:los, angeles, ca
LOCATION:Grand Star, Los Angeles, CA
WEBSITE:http://fusicology.com/event/?event_id=21195
URL:http://fusicology.com/event/?event_id=21195
CONTACT:(213) 626-2285
ORGANIZER;CN="Editor's Pick":https://trueskool.com/profile/RentheVinyl
 Archaeologist
ATTACH;FMTTYPE="image/jpeg":http://storage.ning.com/topology/rest/1.0/
 file/get/2247892428?profile=original
ATTENDEE;ROLE=REQ-PARTICIPANT;PARTSTAT=ACCEPTED;RSVP=TRUE;CN="Editor's
  Pick":https://trueskool.com/profile/RentheVinylArchaeologist
END:VEVENT
END:VCALENDAR
