BEGIN:VCALENDAR
PRODID:NingEventWidget-v1
VERSION:2.0
METHOD:PUBLISH
BEGIN:VTIMEZONE
TZID:America/Los_Angeles
X-LIC-LOCATION:America/Los_Angeles
BEGIN:DAYLIGHT
TZOFFSETFROM:-0800
TZOFFSETTO:-0700
TZNAME:PDT
DTSTART:19700308T020000
RRULE:FREQ=YEARLY;BYMONTH=3;BYDAY=2SU
END:DAYLIGHT
BEGIN:STANDARD
TZOFFSETFROM:-0700
TZOFFSETTO:-0800
TZNAME:PST
DTSTART:19701101T020000
RRULE:FREQ=YEARLY;BYMONTH=11;BYDAY=1SU
END:STANDARD
END:VTIMEZONE
BEGIN:VEVENT
UID:1464587:Event:69012
DTSTAMP:20260420T213203Z
SUMMARY:Soul Music With Eric Roberson
DESCRIPTION:Saturday November 13, 2010\nUptown Nights\nSOUL MUSIC WITH
  ERIC ROBERSON\n\nwith DJ Cosi and special guests\n\nGrammy nominated 
 artist Eric Roberson brings soul to Harlem stage marrying music from h
 is latest album “Music Fan First” to some of his favorite classic 
 albums. DJ Cosi wows the audience on the turntables for the night.\n\n
 Harlem Stage/ Aaron Davis Hall, Inc.\n150 Convent Avenue at W 135th St
 .\nNew York, New York 10031\nCover: $25.00\nFor Tickets, call our box 
 office at 212-281-9240 x 19 or 20.\n7:30 pm - 9:30 pm\n \n\nFor more i
 nformation visit https://trueskool.com/events/soul-music-with-eric-rob
 erson
DTSTART;TZID=America/Los_Angeles:20101113T193000
DTEND;TZID=America/Los_Angeles:20101113T230000
CATEGORIES:new, york, ny
LOCATION:Harlem Stage/ Aaron Davis Hall, Inc. 150 Convent Avenue at W 
 135th St. New York, New York 10031
WEBSITE:http://www.harlemstage.org
URL:http://www.harlemstage.org
CONTACT:
ORGANIZER:Harlem Stage/ Aaron Davis Hall, Inc.
ATTACH;FMTTYPE="image/jpeg":http://storage.ning.com/topology/rest/1.0/
 file/get/2247885102?profile=original
ATTENDEE;ROLE=REQ-PARTICIPANT;PARTSTAT=ACCEPTED;RSVP=TRUE;CN="Editor's
  Pick":https://trueskool.com/profile/RentheVinylArchaeologist
END:VEVENT
END:VCALENDAR
