BEGIN:VCALENDAR
PRODID:NingEventWidget-v1
VERSION:2.0
METHOD:PUBLISH
BEGIN:VTIMEZONE
TZID:America/Los_Angeles
X-LIC-LOCATION:America/Los_Angeles
BEGIN:DAYLIGHT
TZOFFSETFROM:-0800
TZOFFSETTO:-0700
TZNAME:PDT
DTSTART:19700308T020000
RRULE:FREQ=YEARLY;BYMONTH=3;BYDAY=2SU
END:DAYLIGHT
BEGIN:STANDARD
TZOFFSETFROM:-0700
TZOFFSETTO:-0800
TZNAME:PST
DTSTART:19701101T020000
RRULE:FREQ=YEARLY;BYMONTH=11;BYDAY=1SU
END:STANDARD
END:VTIMEZONE
BEGIN:VEVENT
UID:1464587:Event:26041
DTSTAMP:20260422T182911Z
SUMMARY:Soul Fyah 1yr Anniversary plus Bob Marley B-Day Celebration
DESCRIPTION:SOUL FYAH 1 YR ANNIVERSARY\n plus\nBOB MARLEY B-DAY CELEBR
 ATION\n\n\nFIRST 50 PEOPLE GET A FREE BEST OF THE MARLEYS MIXTAPE\n FE
 ATURING SONGS BY:\nDAMIAN, STEPHEN, KY-MANI, JULIAN, ZIGGY, BOB MARLEY
 \nAND MORE\n\nwith residents\nDJ SERG & KOOL KYLE\n\nplus special gues
 ts\nSMOKY (K.O.K.) :: MR. E (PAPALOTE) :: ABLE DEE\n\nFREE ALL NIGHT!!
 ! NO COVER\n$3 REDSTRIPES\n\nFor more information visit https://truesk
 ool.com/events/soul-fyah-1yr-anniversary-plus
DTSTART;TZID=America/Los_Angeles:20090203T210000
DTEND;TZID=America/Los_Angeles:20090204T020000
CATEGORIES:reggae, dancehall, marley
LOCATION:Luka's Taproom
WEBSITE:http://maps.google.com/maps?hl=en&q=2221+broadway+oakland+ca&u
 m=1&ie=UTF-8&split=0&gl=us&sa=X&oi=geocode_result&resnum=1&ct=title
URL:http://maps.google.com/maps?hl=en&q=2221+broadway+oakland+ca&um=1&
 ie=UTF-8&split=0&gl=us&sa=X&oi=geocode_result&resnum=1&ct=title
CONTACT:510-759-1930
ORGANIZER;CN="dj serg":https://trueskool.com/profile/djserg
ATTACH;FMTTYPE="image/jpeg":http://storage.ning.com/topology/rest/1.0/
 file/get/2247854650?profile=original
ATTENDEE;ROLE=REQ-PARTICIPANT;PARTSTAT=ACCEPTED;RSVP=TRUE;CN="dj serg"
 :https://trueskool.com/profile/djserg
END:VEVENT
END:VCALENDAR
