BEGIN:VCALENDAR
PRODID:NingEventWidget-v1
VERSION:2.0
METHOD:PUBLISH
BEGIN:VTIMEZONE
TZID:America/Los_Angeles
X-LIC-LOCATION:America/Los_Angeles
BEGIN:DAYLIGHT
TZOFFSETFROM:-0800
TZOFFSETTO:-0700
TZNAME:PDT
DTSTART:19700308T020000
RRULE:FREQ=YEARLY;BYMONTH=3;BYDAY=2SU
END:DAYLIGHT
BEGIN:STANDARD
TZOFFSETFROM:-0700
TZOFFSETTO:-0800
TZNAME:PST
DTSTART:19701101T020000
RRULE:FREQ=YEARLY;BYMONTH=11;BYDAY=1SU
END:STANDARD
END:VTIMEZONE
BEGIN:VEVENT
UID:1464587:Event:69051
DTSTAMP:20260420T112934Z
SUMMARY:\"Something Special\" - A post happy hour/early evening social
DESCRIPTION:\"Liege Spirits Lounge\": Brand New Lounge(2010) in Old Do
 wntown Oakland featuring a comfortable mature environment, plush seati
 ng, bar menu, 2 flat-screen TVs, happy hour drink specials and great m
 usic!! Something Special Every Friday: Hip-Hop, Funk, Neo-Soul, R&B, L
 atin, Reggae, Rock!\n\nFor more information visit https://trueskool.co
 m/events/something-special-a-post
DTSTART;TZID=America/Los_Angeles:20101029T200000
DTEND;TZID=America/Los_Angeles:20101105T020000
CATEGORIES:east, bay, oakland, ca
LOCATION:Liege Spirits Lounge, Oakland, CA
WEBSITE:http://www.liegeoakland.com
URL:http://www.liegeoakland.com
CONTACT:510-835-4343
ORGANIZER:Sol Rising(Skwint), Marcella-LadyLu, T-Wag
ATTACH;FMTTYPE="image/jpeg":http://storage.ning.com/topology/rest/1.0/
 file/get/2247884625?profile=original
ATTENDEE;ROLE=REQ-PARTICIPANT;PARTSTAT=ACCEPTED;RSVP=TRUE;CN="RasCue a
 ka Black Burgundy":https://trueskool.com/profile/RasCueakaBlackBurgund
 y
END:VEVENT
END:VCALENDAR
