BEGIN:VCALENDAR
PRODID:NingEventWidget-v1
VERSION:2.0
METHOD:PUBLISH
BEGIN:VTIMEZONE
TZID:America/Los_Angeles
X-LIC-LOCATION:America/Los_Angeles
BEGIN:DAYLIGHT
TZOFFSETFROM:-0800
TZOFFSETTO:-0700
TZNAME:PDT
DTSTART:19700308T020000
RRULE:FREQ=YEARLY;BYMONTH=3;BYDAY=2SU
END:DAYLIGHT
BEGIN:STANDARD
TZOFFSETFROM:-0700
TZOFFSETTO:-0800
TZNAME:PST
DTSTART:19701101T020000
RRULE:FREQ=YEARLY;BYMONTH=11;BYDAY=1SU
END:STANDARD
END:VTIMEZONE
BEGIN:VEVENT
UID:1464587:Event:41417
DTSTAMP:20260421T110556Z
SUMMARY:Solid
DESCRIPTION:Solid\nRoots Reggae Dancehall\nEach And Every Week\n\nMPEN
 ZI\nKnowmadic DJs\n\nPOLO MO'QZ\n13th Tribe\n\nSHORTKUT\nTriple Threat
  DJs\n\nDJ FUZE\nDigital Underground\n\nDADDY ROLO\nLonestar Sound\n\n
 \nPrice Free Before 11pm\n$5 after\nTime 9pm-2am\nMusic Roots, Reggae,
  Dancehall\n\nFor more information visit https://trueskool.com/events/
 solid-1
DTSTART;TZID=America/Los_Angeles:20091015T210000
DTEND;TZID=America/Los_Angeles:20091016T140000
CATEGORIES:reggae, roots, dancehall
LOCATION:Club Six, San Francisco, CA
WEBSITE:http://www.clubsix1.com
URL:http://www.clubsix1.com
CONTACT:415-531-6593
ORGANIZER:Angel
ATTACH;FMTTYPE="image/jpeg":http://storage.ning.com/topology/rest/1.0/
 file/get/2247866779?profile=original
ATTENDEE;ROLE=REQ-PARTICIPANT;PARTSTAT=ACCEPTED;RSVP=TRUE;CN=Cecily:ht
 tps://trueskool.com/profile/Cecily
END:VEVENT
END:VCALENDAR
