BEGIN:VCALENDAR
PRODID:NingEventWidget-v1
VERSION:2.0
METHOD:PUBLISH
BEGIN:VTIMEZONE
TZID:America/Los_Angeles
X-LIC-LOCATION:America/Los_Angeles
BEGIN:DAYLIGHT
TZOFFSETFROM:-0800
TZOFFSETTO:-0700
TZNAME:PDT
DTSTART:19700308T020000
RRULE:FREQ=YEARLY;BYMONTH=3;BYDAY=2SU
END:DAYLIGHT
BEGIN:STANDARD
TZOFFSETFROM:-0700
TZOFFSETTO:-0800
TZNAME:PST
DTSTART:19701101T020000
RRULE:FREQ=YEARLY;BYMONTH=11;BYDAY=1SU
END:STANDARD
END:VTIMEZONE
BEGIN:VEVENT
UID:1464587:Event:309830
DTSTAMP:20260421T095641Z
SUMMARY:SocialSF & WeNightlife present Back 2 the Basics with Andre Ni
 ckatina
DESCRIPTION:\nWeNightlife & SocialSFPresent....BACK 2 THE BASICS@MIGHT
 Y(119 Utah Street, San Francisco)Featuring:The Bay Area Legend....ANDR
 E NICKATINA(Performing all the classics for 60+ minutes)In the mix:J.E
 SPINOSA of WiLD94.9&J-PRO of NorCalDJ'sHosted By: Chuy Gomez & Fran B
 oogie\n\n\n\n\nFor more information visit https://trueskool.com/events
 /socialsf-wenightlife-present-back-2-the-basics-with-andre
DTSTART;TZID=America/Los_Angeles:20140228T220000
DTEND;TZID=America/Los_Angeles:20140301T030000
CATEGORIES:san, francisco, california
LOCATION:Mighty, San Francisco
WEBSITE:http://www.hiphopsf.com/
URL:http://www.hiphopsf.com/
CONTACT:
ORGANIZER;CN="Alexandra Alden":https://trueskool.com/profile/Alexandra
 Alden
ATTACH;FMTTYPE="image/jpeg":
ATTENDEE;ROLE=REQ-PARTICIPANT;PARTSTAT=ACCEPTED;RSVP=TRUE;CN="Alexandr
 a Alden":https://trueskool.com/profile/AlexandraAlden
END:VEVENT
END:VCALENDAR
