BEGIN:VCALENDAR
PRODID:NingEventWidget-v1
VERSION:2.0
METHOD:PUBLISH
BEGIN:VTIMEZONE
TZID:America/Los_Angeles
X-LIC-LOCATION:America/Los_Angeles
BEGIN:DAYLIGHT
TZOFFSETFROM:-0800
TZOFFSETTO:-0700
TZNAME:PDT
DTSTART:19700308T020000
RRULE:FREQ=YEARLY;BYMONTH=3;BYDAY=2SU
END:DAYLIGHT
BEGIN:STANDARD
TZOFFSETFROM:-0700
TZOFFSETTO:-0800
TZNAME:PST
DTSTART:19701101T020000
RRULE:FREQ=YEARLY;BYMONTH=11;BYDAY=1SU
END:STANDARD
END:VTIMEZONE
BEGIN:VEVENT
UID:1464587:Event:32838
DTSTAMP:20260421T155955Z
SUMMARY:So Special
DESCRIPTION:In the Dark Room\n\n\n\nDCCS & Broken Silence Sound Presen
 t:\nSo Special\nEvery First Saturday\n\nSpecial Guests\nJah Yzer\nAdam
  12\n\n& Resident DJ\nDans Once\n\n\nPrice $5 Before 11pm\nFree Before
  11pm Guestlist\nTime 9pm-2am\nMusic Dancehall, Reggae, Classics, Remi
 xes\n\nFor more information visit https://trueskool.com/events/so-spec
 ial
DTSTART;TZID=America/Los_Angeles:20090606T210000
DTEND;TZID=America/Los_Angeles:20090607T150000
CATEGORIES:dancehall, reggae
LOCATION:Club Six, San Francisco, CA
WEBSITE:http://www.clubsix1.com
URL:http://www.clubsix1.com
CONTACT:415-531-6593
ORGANIZER:Angel
ATTACH;FMTTYPE="image/jpeg":http://storage.ning.com/topology/rest/1.0/
 file/get/2247857383?profile=original
ATTENDEE;ROLE=REQ-PARTICIPANT;PARTSTAT=ACCEPTED;RSVP=TRUE;CN=Cecily:ht
 tps://trueskool.com/profile/Cecily
END:VEVENT
END:VCALENDAR
