BEGIN:VCALENDAR
PRODID:NingEventWidget-v1
VERSION:2.0
METHOD:PUBLISH
BEGIN:VTIMEZONE
TZID:America/Los_Angeles
X-LIC-LOCATION:America/Los_Angeles
BEGIN:DAYLIGHT
TZOFFSETFROM:-0800
TZOFFSETTO:-0700
TZNAME:PDT
DTSTART:19700308T020000
RRULE:FREQ=YEARLY;BYMONTH=3;BYDAY=2SU
END:DAYLIGHT
BEGIN:STANDARD
TZOFFSETFROM:-0700
TZOFFSETTO:-0800
TZNAME:PST
DTSTART:19701101T020000
RRULE:FREQ=YEARLY;BYMONTH=11;BYDAY=1SU
END:STANDARD
END:VTIMEZONE
BEGIN:VEVENT
UID:1464587:Event:38631
DTSTAMP:20260421T021755Z
SUMMARY:So Special Saturdays
DESCRIPTION:DCSS & Broken Silence Sound Present:\nSo Special\nSaturday
 s\nEvery First Saturday Of The Month\n\n\"Resident DJ\"\nBroken Silenc
 e Sound\n\"Dans One\"\n\nAnd Special Guests\nBlack Love Sound \"Lucaza
 de & Senseless\"\nGreen R \"Coo Yah\"\nJah Seh \" Dee Cee's Soul Shake
 down\"\n\n\nPrice $5 before 11pm\nE-Mail for\nFree before 11pm Guestli
 st\nTime 9pm-2am\nMusic Dancehall, Reggae, Classics, Remixes\n\nFor mo
 re information visit https://trueskool.com/events/so-special-saturdays
 -1
DTSTART;TZID=America/Los_Angeles:20090905T210000
DTEND;TZID=America/Los_Angeles:20090906T030000
CATEGORIES:dancehall, reggae, remixes
LOCATION:Club Six, San Francisco, CA
WEBSITE:http://www.clubsix1.com
URL:http://www.clubsix1.com
CONTACT:415-531-6593
ORGANIZER:Angel
ATTACH;FMTTYPE="image/jpeg":http://storage.ning.com/topology/rest/1.0/
 file/get/2247871721?profile=original
ATTENDEE;ROLE=REQ-PARTICIPANT;PARTSTAT=ACCEPTED;RSVP=TRUE;CN=Cecily:ht
 tps://trueskool.com/profile/Cecily
END:VEVENT
END:VCALENDAR
