BEGIN:VCALENDAR
PRODID:NingEventWidget-v1
VERSION:2.0
METHOD:PUBLISH
BEGIN:VTIMEZONE
TZID:America/Los_Angeles
X-LIC-LOCATION:America/Los_Angeles
BEGIN:DAYLIGHT
TZOFFSETFROM:-0800
TZOFFSETTO:-0700
TZNAME:PDT
DTSTART:19700308T020000
RRULE:FREQ=YEARLY;BYMONTH=3;BYDAY=2SU
END:DAYLIGHT
BEGIN:STANDARD
TZOFFSETFROM:-0700
TZOFFSETTO:-0800
TZNAME:PST
DTSTART:19701101T020000
RRULE:FREQ=YEARLY;BYMONTH=11;BYDAY=1SU
END:STANDARD
END:VTIMEZONE
BEGIN:VEVENT
UID:1464587:Event:389691
DTSTAMP:20260421T021246Z
SUMMARY:So Much Soul with Vinroc & Shortkut | Guest DJs Ms. Badkiss & 
 Kool Raul
DESCRIPTION:{ SO MUCH SOUL }every 3rd saturdaySO MUCH SOUL is a mix se
 ries produced and established in 2002 by world renowned DJ's Vinroc & 
 Shortkut of the Triple Threat DJ's. A selected blend of soul inspired 
 music ranging from hip hop, jazz, reggae and house. It has been a favo
 rite mix around the world, bringing that \"feel good\" vibe and soundt
 rack to the masses.\"So Much Soul is just not a mixtape, it's an exper
 ience.\". music by .VINROC & SHORTKUT{ Triple Threat DJ's }. guest dj 
 .MS. BADKISS{ M-Sessions | Manila }BadKiss is an open-format DJ. She s
 elects music depending on the theme of the night, the crowd, and the a
 tmosphere of the venue. Very few DJs in the Manila scene can claim to 
 be as versatile and versed in so many different styles of music as thi
 s lady is. She can play anything from 70s Disco, Funk and Soul to clas
 sic 90s and soulful contemporary Hip Hop, Dance Hall & Reggae, Afro be
 at & Latin rhythms to NuJazz, Broken Beat, UK Garage & Bass music to S
 oulful & Deep House.Notable artists that BadKiss has played with are D
 J Spinna, Kyoto Jazz Massive, Juergen von Knoblauch (Jazzanova), Telep
 opmusik, Opolopo, Amalia, Jojoflores, DJ Dusty, DJ Krush, DJ Neil Arms
 trong, Ali Shaheed Muhammad (ATCQ), DJ Maseo (DeLaSoul), DJ ShortKut (
 ISP), Tony Touch, Nickodemus and Captain Planet and the Magnificent Ja
 zzy Jeff.She reached a worldwide audience when she contributed feature
 d mixes to the international and respected Radishow \"Soulsearching wi
 th Michael Ruetten\", the highly influential BamaLoveSoul blog and Cap
 tain Planet's Mixtaperiot.KOOL RAUL{ Beatz n Pieces | The MFers }. hos
 ted by .FRAN BOOGIE{ playing soul inspired music and beyond....all nig
 ht }hip hop . r&b . funk . house . reggae . trap . uk garage. future c
 lassics$5 before 11pm w rsvpbirthdays welcomebottle-table servicee. rs
 vp@mercer-sf.comguestlist . general infoe. somuchsoul415@gmail.comhttp
 ://www.djshortkut.comhttp://www.mixcrate.com/vinroc\n\nFor more inform
 ation visit https://trueskool.com/events/so-much-soul-with-vinroc-shor
 tkut-guest-djs-ms-badkiss-kool-raul
DTSTART;TZID=America/Los_Angeles:20140719T220000
DTEND;TZID=America/Los_Angeles:20140720T020000
CATEGORIES:san, francisco
LOCATION:Mercer, San Francisco, CA
WEBSITE:http://www.mercer-sf.com
URL:http://www.mercer-sf.com
CONTACT:
ORGANIZER:Mercer
ATTACH;FMTTYPE="image/jpeg":http://storage.ning.com/topology/rest/1.0/
 file/get/2247964391?profile=original
ATTENDEE;ROLE=REQ-PARTICIPANT;PARTSTAT=ACCEPTED;RSVP=TRUE;CN="Jess Die
 u":https://trueskool.com/profile/JessDieu
END:VEVENT
END:VCALENDAR
