BEGIN:VCALENDAR
PRODID:NingEventWidget-v1
VERSION:2.0
METHOD:PUBLISH
BEGIN:VTIMEZONE
TZID:America/Los_Angeles
X-LIC-LOCATION:America/Los_Angeles
BEGIN:DAYLIGHT
TZOFFSETFROM:-0800
TZOFFSETTO:-0700
TZNAME:PDT
DTSTART:19700308T020000
RRULE:FREQ=YEARLY;BYMONTH=3;BYDAY=2SU
END:DAYLIGHT
BEGIN:STANDARD
TZOFFSETFROM:-0700
TZOFFSETTO:-0800
TZNAME:PST
DTSTART:19701101T020000
RRULE:FREQ=YEARLY;BYMONTH=11;BYDAY=1SU
END:STANDARD
END:VTIMEZONE
BEGIN:VEVENT
UID:1464587:Event:69038
DTSTAMP:20260420T132708Z
SUMMARY:SO FRESH...The Freshest Old School Hip Hop Party in the Bay!
DESCRIPTION:Socialite Promotions & ADIDAS presents an exclusive Old Sc
 hool Hip Hop and R&B Classics party….SO FRESH…A Night of Old Schoo
 l Hip Hop and R&B Classics! Saturday, NOVEMBER 6th at Risque Lounge in
  San Francisco’s Union Square District.\n\nWe’re taking it back to
  the Old School every month! Bust out those Adidas jump suits and Adid
 as Shell Toe sneakers with fat laces, the cross colors and Kangol buck
 et hats with fat gold rope chains!\n\nFor those of you who have been t
 o our past SO FRESH parties, you know this party is one not to miss! S
 O FRESH will be strictly a night of Old School Hip Hop and R&B Classic
 s from the late 80’s to the early-mid 1990’s! If you grew up liste
 ning to this “Golden era” of Hip Hop and R&B, then you need to be 
 at SO FRESH inside Risque Lounge! SO FRESH has been going strong for a
 lmost 2 years now with no signs of stopping!\n\nOur DJ’s who have be
 en tearin up the turntables for almost 2 decades, will be mixing up al
 l of the hottest tracks from artist such as:\n\nNaughty By Nature, Tri
 be Called Quest, Run DMC, AMG, Digital Underground, Beastie Boys, Pete
  Rock & CL Smooth, 3rd Bass, Pharcyde, Del Tha Funkyhomosapien, Whodin
 i, Grandmaster Flash, Boogie Down Productions, KRS-1, Kid N Play, Soul
  4 Real, Boys II Men, Audio 2, The Fat Boys, Biz Markie, Slick Rick, E
 n Vogue, LL Cool J, Sugarhill Gang, TLC, SWV, 2Pac, Rodeny O & Joe Coo
 ley, Cypress Hill, Ice Cube, D Nice, Das EFX, Heavy D, Digable Planets
 , De La Soul, Kid N Play, Too Short, EPMD, Eric B & Rakim, Zhane, Salt
  N Pepa, Total, En Vogue, JJ Fad, Easy E, NWA, The Fuguees, DJ Quik, B
 el Biv Devoe, New Edition, Brand Nubian and the list goes on and on!\n
 \nFeaturing The Bay Area's Premier DJ’s In The Mix!\nDJ Twin Spin (V
 IDEO MIXING LIVE!)\nWith guest DJ, Miles Green\n\nPLUS SPECIAL BIRTHDA
 Y GUEST\nRich Laxamana\n\nCome dance and watch some Old School Hip Hop
  videos and movies on a 25 foot video screen!\n\nFREE COVER BEFORE 10:
 30PM and $5 Cover Until 11PM w/Guest List! Email your full names to: S
 oFresh@SocialitePro.com and please specify how you found out about thi
 s event!\n\nRisque Lounge is located at 45 Maiden Lane (Between Kearny
  and Grant) in San Francisco. Free street parking nearby! Open to all 
 mature people 21 and over with valid ID please. Doors open at 9:30 PM.
  For VIP Bottle Service or info please email: info@SocialitePro.com\n\
 nOld School Hip Hop dress apparel is preferred, but not mandatory. You
  may also choose to dress in casual comfortable but fashionable dress 
 attire. SNEAKER AND KICKS ARE OK! 21 & Over w/Valid ID\n\nYou can also
  visit our website: www.SocialitePro.com for more details!\n\nFor more
  information visit https://trueskool.com/events/so-freshthe-freshest-o
 ld-1
DTSTART;TZID=America/Los_Angeles:20101106T220000
DTEND;TZID=America/Los_Angeles:20101107T020000
CATEGORIES:san, francisco, bay, area
LOCATION:Risque Lounge, San Francisco, CA
WEBSITE:
URL:
CONTACT:
ORGANIZER;CN="Socialite Promotions":https://trueskool.com/profile/Soci
 alitePromotions
ATTACH;FMTTYPE="image/jpeg":http://storage.ning.com/topology/rest/1.0/
 file/get/2247884539?profile=original
ATTENDEE;ROLE=REQ-PARTICIPANT;PARTSTAT=ACCEPTED;RSVP=TRUE;CN="Socialit
 e Promotions":https://trueskool.com/profile/SocialitePromotions
END:VEVENT
END:VCALENDAR
