BEGIN:VCALENDAR
PRODID:NingEventWidget-v1
VERSION:2.0
METHOD:PUBLISH
BEGIN:VTIMEZONE
TZID:America/Los_Angeles
X-LIC-LOCATION:America/Los_Angeles
BEGIN:DAYLIGHT
TZOFFSETFROM:-0800
TZOFFSETTO:-0700
TZNAME:PDT
DTSTART:19700308T020000
RRULE:FREQ=YEARLY;BYMONTH=3;BYDAY=2SU
END:DAYLIGHT
BEGIN:STANDARD
TZOFFSETFROM:-0700
TZOFFSETTO:-0800
TZNAME:PST
DTSTART:19701101T020000
RRULE:FREQ=YEARLY;BYMONTH=11;BYDAY=1SU
END:STANDARD
END:VTIMEZONE
BEGIN:VEVENT
UID:1464587:Event:55679
DTSTAMP:20260420T200341Z
SUMMARY:SO FRESH...A Night of Old School Hip Hop and R&B Classics!
DESCRIPTION:We’re taking it back to the Old School every month! Bust
  out those Adidas jump suits and Shell toes sneakers with fat laces, t
 he cross colors and Kangol bucket hats with fat gold chains!\n\nSocial
 ite Promotions presents an exclusive Old School Hip Hop and R&B Classi
 cs party….SO FRESH…A Night of Old School Hip Hop and R&B Classics!
  Saturday, May 1st at a new location! Risque Lounge in San Francisco
 s Union Square District.\n\nFor those of you who have been to our pas
 t SO FRESH parties, you know this party is one not to miss! SO FRESH w
 ill be strictly a night of Old School Hip Hop and R&B Classics from th
 e late 80’s to the early-mid 1990’s! If you grew up listening to t
 his “Golden era” of Hip Hop and R&B, then you need to be at SO FRE
 SH inside Risque Lounge!\n\nOur DJ’s who have been tearin up the tur
 ntables for almost 2 decades, will be mixing up all of the hottest tra
 cks from artist such as:\n\nNaughty By Nature, Tribe Called Quest, Run
  DMC, AMG, Digital Underground, Beastie Boys, Pete Rock & CL Smooth, 3
 rd Bass, Pharcyde, Del Tha Funkyhomosapien, Whodini, Grandmaster Flash
 , Boogie Down Productions, KRS-1, Kid N Play, Soul 4 Real, Boys II Men
 , Audio 2, The Fat Boys, Biz Markie, Slick Rick, En Vogue, LL Cool J, 
 Sugarhill Gang, TLC, SWV, 2Pac, Rodeny O & Joe Cooley, Cypress Hill, I
 ce Cube, D Nice, Das EFX, Heavy D, Digable Planets, De La Soul, Kid N 
 Play, Too Short, EPMD, Eric B & Rakim, Zhane, Salt N Pepa, Total, En V
 ogue, JJ Fad, Easy E, NWA, The Fuguees, DJ Quik, Bel Biv Devoe, New Ed
 ition, Brand Nubian and the list goes on and on!\n\nFeaturing The Bay 
 Area's Premier DJ’s In The Mix!\nDJ Twin Spin\nDJ Tactics\nDJ G Wayn
 e\n\nCome dance and watch some Old School Hip Hop videos and movies on
  a giant 25 foot video screen!\n\nFREE COVER w/GUESTLIST BEFORE 10:30P
 M! $5 Cover Until 11PM! Email your full names to: SoFresh@SocialitePro
 .com and please specify how you found out about this event!\n\nRisque 
 Lounge is located at 45 Maiden Lane (Between Kearny Street and Grant A
 venue) in San Francisco. Free street parking nearby! Open to all matur
 e people 21 and over with valid ID please. Doors open at 9:30 PM. For 
 VIP Bottle Service or info please call: (510) 996-8828 or email: info@
 SocialitePro.com\n\nRisque Lounge has a nice cozy, yet chic and upscal
 e classy vibe. Old School Hip Hop dress apparel is preferred, but not 
 mandatory. You may also choose to dress in a casual comfortable but fa
 shionable dress attire. 21 & Over w/Valid ID\n\nYou can also visit our
  website: www.SocialitePro.com for more details!\n\nFor more informati
 on visit https://trueskool.com/events/so-fresha-night-of-old-school
DTSTART;TZID=America/Los_Angeles:20100501T213000
DTEND;TZID=America/Los_Angeles:20100502T020000
CATEGORIES:old, school, hip, hop, and, "r&b"
LOCATION:Risque Lounge
WEBSITE:http://www.SocialitePro.com
URL:http://www.SocialitePro.com
CONTACT:510-996-8828
ORGANIZER;CN="Socialite Promotions":https://trueskool.com/profile/Soci
 alitePromotions
ATTACH;FMTTYPE="image/jpeg":http://storage.ning.com/topology/rest/1.0/
 file/get/2247877739?profile=original
ATTENDEE;ROLE=REQ-PARTICIPANT;PARTSTAT=ACCEPTED;RSVP=TRUE;CN="Socialit
 e Promotions":https://trueskool.com/profile/SocialitePromotions
END:VEVENT
END:VCALENDAR
