BEGIN:VCALENDAR
PRODID:NingEventWidget-v1
VERSION:2.0
METHOD:PUBLISH
BEGIN:VTIMEZONE
TZID:America/Los_Angeles
X-LIC-LOCATION:America/Los_Angeles
BEGIN:DAYLIGHT
TZOFFSETFROM:-0800
TZOFFSETTO:-0700
TZNAME:PDT
DTSTART:19700308T020000
RRULE:FREQ=YEARLY;BYMONTH=3;BYDAY=2SU
END:DAYLIGHT
BEGIN:STANDARD
TZOFFSETFROM:-0700
TZOFFSETTO:-0800
TZNAME:PST
DTSTART:19701101T020000
RRULE:FREQ=YEARLY;BYMONTH=11;BYDAY=1SU
END:STANDARD
END:VTIMEZONE
BEGIN:VEVENT
UID:1464587:Event:64744
DTSTAMP:20260420T145441Z
SUMMARY:SO FRESH: The Freshest Old School Hip Hop Party!
DESCRIPTION:**Best Old School Hip Hop outfit contest! Come dressed in 
 your freshest Adidas old school outfit and enter to win a $50 Adidas s
 tore gift card!**\n\nSocialite Promotions & ADIDAS presents an exclusi
 ve Old School Hip Hop and R&B Classics party….SO FRESH…A Night of 
 Old School Hip Hop and R&B Classics! Saturday, September 4th at Risque
  Lounge in San Francisco’s Union Square District.\n\nWe’re taking 
 it back to the Old School every month! Bust out those Adidas jump suit
 s and Adidas Shell Toe sneakers with fat laces, the cross colors and K
 angol bucket hats with fat gold rope chains!\n\nFor those of you who h
 ave been to our past SO FRESH parties, you know this party is one not 
 to miss! SO FRESH will be strictly a night of Old School Hip Hop and R
 &B Classics from the late 80’s to the early-mid 1990’s! If you gre
 w up listening to this “Golden era” of Hip Hop and R&B, then you n
 eed to be at SO FRESH inside Risque Lounge! SO FRESH has been going st
 rong for almost 2 years now with no signs of stopping!\n\nOur DJ’s w
 ho have been tearin up the turntables for almost 2 decades, will be mi
 xing up all of the hottest tracks from artist such as:\n\nNaughty By N
 ature, Tribe Called Quest, Run DMC, AMG, Digital Underground, Beastie 
 Boys, Pete Rock & CL Smooth, 3rd Bass, Pharcyde, Del Tha Funkyhomosapi
 en, Whodini, Grandmaster Flash, Boogie Down Productions, KRS-1, Kid N 
 Play, Soul 4 Real, Boys II Men, Audio 2, The Fat Boys, Biz Markie, Sli
 ck Rick, En Vogue, LL Cool J, Sugarhill Gang, TLC, SWV, 2Pac, Rodeny O
  & Joe Cooley, Cypress Hill, Ice Cube, D Nice, Das EFX, Heavy D, Digab
 le Planets, De La Soul, Kid N Play, Too Short, EPMD, Eric B & Rakim, Z
 hane, Salt N Pepa, Total, En Vogue, JJ Fad, Easy E, NWA, The Fuguees, 
 DJ Quik, Bel Biv Devoe, New Edition, Brand Nubian and the list goes on
  and on!\n\nFeaturing The Bay Area's Premier DJ’s In The Mix!\nDJ Tw
 in Spin (VIDEO MIXING LIVE!)\nDJ Tactics\nPLUS SPECIAL GUEST DJs EVERY
  MONTH\n\nCome dance and watch some Old School Hip Hop videos and movi
 es on a 25 foot video screen!\n\nFREE COVER BEFORE 10:30PM and $5 Cove
 r Until 11PM w/Guest List! Email your full names to: SoFresh@Socialite
 Pro.com and please specify how you found out about this event!\n\nRisq
 ue Lounge is located at 45 Maiden Lane (Between Kearny and Grant) in S
 an Francisco. Free street parking nearby! Open to all mature people 21
  and over with valid ID please. Doors open at 9:30 PM. For VIP Bottle 
 Service or info please email: info@SocialitePro.com\n\nOld School Hip 
 Hop dress apparel is preferred, but not mandatory. You may also choose
  to dress in casual comfortable but fashionable dress attire. SNEAKER 
 AND KICKS ARE OK! 21 & Over w/Valid ID\n\nYou can also visit our websi
 te: www.SocialitePro.com for more details!\n\nFor more information vis
 it https://trueskool.com/events/so-fresh-the-freshest-old
DTSTART;TZID=America/Los_Angeles:20100904T220000
DTEND;TZID=America/Los_Angeles:20100905T020000
CATEGORIES:bay, area, san, francisco, ca
LOCATION:Risque Lounge, San Francisco, CA
WEBSITE:http://www.SocialitePro.com
URL:http://www.SocialitePro.com
CONTACT:
ORGANIZER;CN="Socialite Promotions":https://trueskool.com/profile/Soci
 alitePromotions
ATTACH;FMTTYPE="image/jpeg":http://storage.ning.com/topology/rest/1.0/
 file/get/2247895092?profile=original
ATTENDEE;ROLE=REQ-PARTICIPANT;PARTSTAT=ACCEPTED;RSVP=TRUE;CN="Socialit
 e Promotions":https://trueskool.com/profile/SocialitePromotions
END:VEVENT
END:VCALENDAR
