BEGIN:VCALENDAR
PRODID:NingEventWidget-v1
VERSION:2.0
METHOD:PUBLISH
BEGIN:VTIMEZONE
TZID:America/Los_Angeles
X-LIC-LOCATION:America/Los_Angeles
BEGIN:DAYLIGHT
TZOFFSETFROM:-0800
TZOFFSETTO:-0700
TZNAME:PDT
DTSTART:19700308T020000
RRULE:FREQ=YEARLY;BYMONTH=3;BYDAY=2SU
END:DAYLIGHT
BEGIN:STANDARD
TZOFFSETFROM:-0700
TZOFFSETTO:-0800
TZNAME:PST
DTSTART:19701101T020000
RRULE:FREQ=YEARLY;BYMONTH=11;BYDAY=1SU
END:STANDARD
END:VTIMEZONE
BEGIN:VEVENT
UID:1464587:Event:654376
DTSTAMP:20260422T060227Z
SUMMARY:SNOW THA PRODUCT (WIN TICKETS)
DESCRIPTION:ENTER TO WIN A PAIR OF TICKETS. WINNER WILL BE DRAWN RANDO
 MLY AND ANNOUNCED 2 DAYS PRIOR TO EVENT.    \nWednesday, November 30
 , 2016\nSNOW THA PRODUCT\nSOCIAL HALL SF 1270 Sutter Street San Franci
 sco, CA 94105 414-777-1715 Doors: 7:00PM |Show: 8:00PM\n>> BUY TICKETS
 \n\n\nFor more information visit https://trueskool.com/events/snow-tha
 -product
DTSTART;TZID=America/Los_Angeles:20161130T200000
DTEND;TZID=America/Los_Angeles:20161130T230000
CATEGORIES:"san francisco", oakland, berkley, "san jose", "bay area"
LOCATION:SOCIAL HALL, SF
WEBSITE:http://www.axs.com/events/325282/snow-tha-product-tickets?skin
 =goldenvoice
URL:http://www.axs.com/events/325282/snow-tha-product-tickets?skin=gol
 denvoice
CONTACT:
ORGANIZER;CN="Editor's Pick":https://trueskool.com/profile/RentheVinyl
 Archaeologist
ATTACH;FMTTYPE="image/jpeg":http://storage.ning.com/topology/rest/1.0/
 file/get/2247992024?profile=original
ATTENDEE;ROLE=REQ-PARTICIPANT;PARTSTAT=ACCEPTED;RSVP=TRUE;CN="Elisa Bj
 eldanes":https://trueskool.com/profile/ElisaBjeldanes
ATTENDEE;ROLE=REQ-PARTICIPANT;PARTSTAT=ACCEPTED;RSVP=TRUE;CN="Editor's
  Pick":https://trueskool.com/profile/RentheVinylArchaeologist
END:VEVENT
END:VCALENDAR
