BEGIN:VCALENDAR
PRODID:NingEventWidget-v1
VERSION:2.0
METHOD:PUBLISH
BEGIN:VTIMEZONE
TZID:America/Los_Angeles
X-LIC-LOCATION:America/Los_Angeles
BEGIN:DAYLIGHT
TZOFFSETFROM:-0800
TZOFFSETTO:-0700
TZNAME:PDT
DTSTART:19700308T020000
RRULE:FREQ=YEARLY;BYMONTH=3;BYDAY=2SU
END:DAYLIGHT
BEGIN:STANDARD
TZOFFSETFROM:-0700
TZOFFSETTO:-0800
TZNAME:PST
DTSTART:19701101T020000
RRULE:FREQ=YEARLY;BYMONTH=11;BYDAY=1SU
END:STANDARD
END:VTIMEZONE
BEGIN:VEVENT
UID:1464587:Event:674107
DTSTAMP:20260422T194540Z
SUMMARY:SNOOP DOGG & WIZ KHALIFA
DESCRIPTION:SNOOP DOGG & WIZ KHALIFA\r\nDJ Aspect Sunday, April 22, 20
 18 Doors: 6:00PM |Show: 7:00PM\r\n290 S 7th Street San Jose, CA 95112 
 408-924-6360 EVENT CENTER AT SAN JOSE STATE UNIVERSITY\n\nFor more inf
 ormation visit https://trueskool.com/events/snoop-dogg-wiz-khalifa
DTSTART;TZID=America/Los_Angeles:20180422T190000
DTEND;TZID=America/Los_Angeles:20180422T230000
CATEGORIES:"bay area", oakland, "san francisco", "san jose", berkeley
LOCATION:EVENT CENTER AT SAN JOSE STATE UNIVERSITY
WEBSITE:https://www1.ticketmaster.com/event/1C00546B992F2CD6?brand=gol
 denvoice
URL:https://www1.ticketmaster.com/event/1C00546B992F2CD6?brand=goldenv
 oice
CONTACT:
ORGANIZER;CN="Editor's Pick":https://trueskool.com/profile/RentheVinyl
 Archaeologist
ATTACH;FMTTYPE="image/jpeg":http://storage.ning.com/topology/rest/1.0/
 file/get/2248008447?profile=original
ATTENDEE;ROLE=REQ-PARTICIPANT;PARTSTAT=ACCEPTED;RSVP=TRUE;CN="Editor's
  Pick":https://trueskool.com/profile/RentheVinylArchaeologist
END:VEVENT
END:VCALENDAR
