BEGIN:VCALENDAR
PRODID:NingEventWidget-v1
VERSION:2.0
METHOD:PUBLISH
BEGIN:VTIMEZONE
TZID:America/Los_Angeles
X-LIC-LOCATION:America/Los_Angeles
BEGIN:DAYLIGHT
TZOFFSETFROM:-0800
TZOFFSETTO:-0700
TZNAME:PDT
DTSTART:19700308T020000
RRULE:FREQ=YEARLY;BYMONTH=3;BYDAY=2SU
END:DAYLIGHT
BEGIN:STANDARD
TZOFFSETFROM:-0700
TZOFFSETTO:-0800
TZNAME:PST
DTSTART:19701101T020000
RRULE:FREQ=YEARLY;BYMONTH=11;BYDAY=1SU
END:STANDARD
END:VTIMEZONE
BEGIN:VEVENT
UID:1464587:Event:660328
DTSTAMP:20260423T020253Z
SUMMARY:Snoop Dogg Wellness Retreat Featuring Snoop Dogg, Redman, Meth
 od Man, Cypress Hill
DESCRIPTION:ENTER TO WIN A PAIR OF TICKETS. WINNER WILL BE DRAWN RANDO
 MLY AND ANNOUNCED 2 DAYS PRIOR TO EVENT. \n Sun, Apr 16, 2017  Snoop 
 Dogg Wellness Retreat Featuring Snoop Dogg Redman Method Man Cypress H
 ill\nConcord Pavilion, Concord, CA 07:30 PM >> BUY TICKETS\n\nGet your
  presale tickets to see Snoop Dogg, Redman, Method Man & Cypress Hill 
 today from 10am - 10pm! Click here and use password: MAGIC\nSee them a
 ll live at the Snoop's Mount Kushmore Wellness Retreat April 16 at Con
 cord Pavilion!\n\n\n\n\nFor more information visit https://trueskool.c
 om/events/snoop-dogg-wellness-retreat-featuring-snoop-dogg-redman-meth
 od-ma
DTSTART;TZID=America/Los_Angeles:20170416T193000
DTEND;TZID=America/Los_Angeles:20170416T230000
CATEGORIES:"bay area", concord
LOCATION:Concord Pavilion, Concord, CA
WEBSITE:http://concerts.livenation.com/event/1C00525A2A3963E7?crosssit
 e=TM_US:763942:?crosssite=TM_US:763942&bba=1
URL:http://concerts.livenation.com/event/1C00525A2A3963E7?crosssite=TM
 _US:763942:?crosssite=TM_US:763942&bba=1
CONTACT:
ORGANIZER:Live Nation
ATTACH;FMTTYPE="image/jpeg":http://storage.ning.com/topology/rest/1.0/
 file/get/2247994890?profile=original
ATTENDEE;ROLE=REQ-PARTICIPANT;PARTSTAT=ACCEPTED;RSVP=TRUE;CN="Tali Ben
 attar":https://trueskool.com/profile/TaliBenattar550
ATTENDEE;ROLE=REQ-PARTICIPANT;PARTSTAT=ACCEPTED;RSVP=TRUE;CN="Editor's
  Pick":https://trueskool.com/profile/RentheVinylArchaeologist
END:VEVENT
END:VCALENDAR
