BEGIN:VCALENDAR
PRODID:NingEventWidget-v1
VERSION:2.0
METHOD:PUBLISH
BEGIN:VTIMEZONE
TZID:America/Los_Angeles
X-LIC-LOCATION:America/Los_Angeles
BEGIN:DAYLIGHT
TZOFFSETFROM:-0800
TZOFFSETTO:-0700
TZNAME:PDT
DTSTART:19700308T020000
RRULE:FREQ=YEARLY;BYMONTH=3;BYDAY=2SU
END:DAYLIGHT
BEGIN:STANDARD
TZOFFSETFROM:-0700
TZOFFSETTO:-0800
TZNAME:PST
DTSTART:19701101T020000
RRULE:FREQ=YEARLY;BYMONTH=11;BYDAY=1SU
END:STANDARD
END:VTIMEZONE
BEGIN:VEVENT
UID:1464587:Event:654577
DTSTAMP:20260422T112108Z
SUMMARY:SNOOP DOGG, Bone Thugs-N-Harmony, DJ Quik, Warren G, Tha Dogg 
 Pound
DESCRIPTION:ENTER TO WIN A PAIR OF TICKETS. WINNER WILL BE DRAWN RANDO
 MLY AND ANNOUNCED 2 DAYS PRIOR TO EVENT.  \n MONDAY, DEC 12 Puff Puf
 f Pass Tour Part 2 SNOOP DOGG Bone Thugs-N-Harmony DJ Quik Warren G Th
 a Dogg Pound\nFox Theater Oakland, CA Show: 8:00pm >> BUY TICKETS\n\n\
 nFor more information visit https://trueskool.com/events/snoop-dogg-bo
 ne-thugs-n-harmony-dj-quik-warren-g-tha-dogg-pound
DTSTART;TZID=America/Los_Angeles:20161212T200000
DTEND;TZID=America/Los_Angeles:20161212T230000
CATEGORIES:"bay area", oakland
LOCATION:Fox Theater, Oakland
WEBSITE:http://www.ticketmaster.com/event/1C005143AD0D3C60?camefrom=CF
 C_ANOTHERPLANET_tru&brand=anotherplanet
URL:http://www.ticketmaster.com/event/1C005143AD0D3C60?camefrom=CFC_AN
 OTHERPLANET_tru&brand=anotherplanet
CONTACT:
ORGANIZER:Another Planet Entertainment
ATTACH;FMTTYPE="image/jpeg":http://storage.ning.com/topology/rest/1.0/
 file/get/2247991512?profile=original
ATTENDEE;ROLE=REQ-PARTICIPANT;PARTSTAT=ACCEPTED;RSVP=TRUE;CN="Nancy La
 ws":https://trueskool.com/profile/NancyLaws
ATTENDEE;ROLE=REQ-PARTICIPANT;PARTSTAT=ACCEPTED;RSVP=TRUE;CN=DaLYT:htt
 ps://trueskool.com/profile/DaLYT
ATTENDEE;ROLE=REQ-PARTICIPANT;PARTSTAT=ACCEPTED;RSVP=TRUE;CN="Editor's
  Pick":https://trueskool.com/profile/RentheVinylArchaeologist
END:VEVENT
END:VCALENDAR
