BEGIN:VCALENDAR
PRODID:NingEventWidget-v1
VERSION:2.0
METHOD:PUBLISH
BEGIN:VTIMEZONE
TZID:America/Los_Angeles
X-LIC-LOCATION:America/Los_Angeles
BEGIN:DAYLIGHT
TZOFFSETFROM:-0800
TZOFFSETTO:-0700
TZNAME:PDT
DTSTART:19700308T020000
RRULE:FREQ=YEARLY;BYMONTH=3;BYDAY=2SU
END:DAYLIGHT
BEGIN:STANDARD
TZOFFSETFROM:-0700
TZOFFSETTO:-0800
TZNAME:PST
DTSTART:19701101T020000
RRULE:FREQ=YEARLY;BYMONTH=11;BYDAY=1SU
END:STANDARD
END:VTIMEZONE
BEGIN:VEVENT
UID:1464587:Event:674800
DTSTAMP:20260422T093510Z
SUMMARY:Sneek Rothstein \"West Coastra Nostra\"
DESCRIPTION:Featured with Dj Coalition & Paying Homage to the West Coa
 st Originals, Sneek Rothstein made this Debut to introduce you to his 
 roots in the West Coast.Nephew of Famous \"Tweed Cadillac\", Sneek Gre
 w up listening to the OG'S Make great Hits.He is Looking forward to hi
 s nesxt single release in Late may when he completely introduces you t
 o the Real Sneek, with his single \"OUTLAW\" Which is also being featu
 red om overseas radio.\nFacebook Page: https://www.facebook.com/BookS
 neek/Twitter: @TheDrodiansInstagram: 562original\nSpotify Link\n\nFor 
 more information visit https://trueskool.com/events/sneek-rothstein-we
 st-coastra-nostra
DTSTART;TZID=America/Los_Angeles:20180505T000000
DTEND;TZID=America/Los_Angeles:20180505T235900
CATEGORIES:"#mcfl", "#sony", "#snoop", "#westcoast", "#source"
LOCATION:Worldwide #AMAZON #TIDAL #SPOTIFY #DEEZER #GOOGLE #ITUNES
WEBSITE:
URL:
CONTACT:
ORGANIZER:True Skool
ATTACH;FMTTYPE="image/jpeg":http://storage.ning.com/topology/rest/1.0/
 file/get/2248006654?profile=original
ATTENDEE;ROLE=REQ-PARTICIPANT;PARTSTAT=ACCEPTED;RSVP=TRUE;CN=MCFL:http
 s://trueskool.com/profile/MCFL
END:VEVENT
END:VCALENDAR
