BEGIN:VCALENDAR
PRODID:NingEventWidget-v1
VERSION:2.0
METHOD:PUBLISH
BEGIN:VTIMEZONE
TZID:America/Los_Angeles
X-LIC-LOCATION:America/Los_Angeles
BEGIN:DAYLIGHT
TZOFFSETFROM:-0800
TZOFFSETTO:-0700
TZNAME:PDT
DTSTART:19700308T020000
RRULE:FREQ=YEARLY;BYMONTH=3;BYDAY=2SU
END:DAYLIGHT
BEGIN:STANDARD
TZOFFSETFROM:-0700
TZOFFSETTO:-0800
TZNAME:PST
DTSTART:19701101T020000
RRULE:FREQ=YEARLY;BYMONTH=11;BYDAY=1SU
END:STANDARD
END:VTIMEZONE
BEGIN:VEVENT
UID:1464587:Event:69047
DTSTAMP:20260420T163346Z
SUMMARY:SMOOVE STEP & HUSTLE HALLOWEEN PT II
DESCRIPTION:Step and Hustle:: HENROC and JAMO on the turntables spinni
 ng SOUL, FUNK, HIP-HOP, REGGAE, SALSA, MERENGUE, GROOVES and MORE...We
  will have COSTUME & DANCE prizes all nite long! Come before 11pm wear
 ing your costume and you are FREE!\n\nPrizes all nite!!!\n\nSoul, Hip-
 Hop, R&B, Salsa, Merengue, Cumbia, Dancehall and Reggae/ton, Rare Groo
 ves, Neo-Soul, Soukous and more....\n\nLuka's offers a full bar with o
 ver 15 beers on tap, a pool table and rotating art shows. Dinner serve
 d til 10:30. Bar menu til midnight.\n\nFor more information visit http
 s://trueskool.com/events/smoove-step-hustle-halloween
DTSTART;TZID=America/Los_Angeles:20101030T210000
DTEND;TZID=America/Los_Angeles:20101031T020000
CATEGORIES:soul, breaks, funk, classic, hip, hop, reggae
LOCATION:Lukas Taproom & Lounge
WEBSITE:http://www.lukasoakland.com
URL:http://www.lukasoakland.com
CONTACT:
ORGANIZER;CN="DJ HENROC":https://trueskool.com/profile/DJHENROC
ATTACH;FMTTYPE="image/jpeg":http://storage.ning.com/topology/rest/1.0/
 file/get/2247884592?profile=original
ATTENDEE;ROLE=REQ-PARTICIPANT;PARTSTAT=ACCEPTED;RSVP=TRUE;CN="DJ HENRO
 C":https://trueskool.com/profile/DJHENROC
END:VEVENT
END:VCALENDAR
