BEGIN:VCALENDAR
PRODID:NingEventWidget-v1
VERSION:2.0
METHOD:PUBLISH
BEGIN:VTIMEZONE
TZID:America/Los_Angeles
X-LIC-LOCATION:America/Los_Angeles
BEGIN:DAYLIGHT
TZOFFSETFROM:-0800
TZOFFSETTO:-0700
TZNAME:PDT
DTSTART:19700308T020000
RRULE:FREQ=YEARLY;BYMONTH=3;BYDAY=2SU
END:DAYLIGHT
BEGIN:STANDARD
TZOFFSETFROM:-0700
TZOFFSETTO:-0800
TZNAME:PST
DTSTART:19701101T020000
RRULE:FREQ=YEARLY;BYMONTH=11;BYDAY=1SU
END:STANDARD
END:VTIMEZONE
BEGIN:VEVENT
UID:1464587:Event:42666
DTSTAMP:20260421T005741Z
SUMMARY:SMOOVE DOIN IT FOR 5
DESCRIPTION:ONE NIGHT ONLY we celebrate 5 years of SMOOVE throwin it d
 own inside Lukas. The Smoove Founding Fathers; WISDOM & JAMO are back 
 together again and join guest dj RASCUE for one special night. We are 
 rollin back the cover and spinning the music that makes you move... $5
 \n\nFor more information visit https://trueskool.com/events/smoove-doi
 n-it-for-5
DTSTART;TZID=America/Los_Angeles:20091107T213000
DTEND;TZID=America/Los_Angeles:20091108T020000
CATEGORIES:10pm-2am, "•", "$5", before, 11, 21, "&", up, esident, dj
 s, wisdom, and, jamo, weekly, guest, serve, soul, hip-hop, "r&b", sals
 a, merengue, dancehall, "reggae/ton"
LOCATION:Luka's Taproom & Lounge
WEBSITE:http://www.lukasoakland.com/
URL:http://www.lukasoakland.com/
CONTACT:510-451-4667
ORGANIZER;CN="BAY.BESOUL EVENTS":https://trueskool.com/profile/baybeso
 ulevents
ATTACH;FMTTYPE="image/jpeg":http://storage.ning.com/topology/rest/1.0/
 file/get/2247869015?profile=original
ATTENDEE;ROLE=REQ-PARTICIPANT;PARTSTAT=ACCEPTED;RSVP=TRUE;CN="BAY.BESO
 UL EVENTS":https://trueskool.com/profile/baybesoulevents
END:VEVENT
END:VCALENDAR
