BEGIN:VCALENDAR
PRODID:NingEventWidget-v1
VERSION:2.0
METHOD:PUBLISH
BEGIN:VTIMEZONE
TZID:America/Los_Angeles
X-LIC-LOCATION:America/Los_Angeles
BEGIN:DAYLIGHT
TZOFFSETFROM:-0800
TZOFFSETTO:-0700
TZNAME:PDT
DTSTART:19700308T020000
RRULE:FREQ=YEARLY;BYMONTH=3;BYDAY=2SU
END:DAYLIGHT
BEGIN:STANDARD
TZOFFSETFROM:-0700
TZOFFSETTO:-0800
TZNAME:PST
DTSTART:19701101T020000
RRULE:FREQ=YEARLY;BYMONTH=11;BYDAY=1SU
END:STANDARD
END:VTIMEZONE
BEGIN:VEVENT
UID:1464587:Event:289437
DTSTAMP:20260421T052637Z
SUMMARY:SMOOVE 2013 Grand Finale ft. djs REN • MALACHI • YADDOS
DESCRIPTION: SATURDAY, DEC 28\nSMOOVE\nAn Oakland journey of music, fr
 iends and LOVE...\nSMOOVE invites all LOVERS of R&B, HIP-HOP, SOUL & B
 AYLOVE to come together every 2nd and 4th Saturday and celebrate LIFE 
 in The Bay...\nFREE b4 10 $5 b4 11 10pm-2am 21+\nVIBE: Positivity\nDRI
 NK SPECIALS EVERY SATURDAY NIGHT: $7 GREY GOOSE or KETEL ONE drinks!!!
 \n\nFor more information visit https://trueskool.com/events/smoove-201
 3-grand-finale-ft-djs-ren-malachi-yaddos
DTSTART;TZID=America/Los_Angeles:20131228T220000
DTEND;TZID=America/Los_Angeles:20131229T020000
CATEGORIES:"bay area", oakland
LOCATION:The Rock Steady, Oakland
WEBSITE:https://www.facebook.com/events/204954676351771/
URL:https://www.facebook.com/events/204954676351771/
CONTACT:
ORGANIZER:Bay.be
ATTACH;FMTTYPE="image/jpeg":http://storage.ning.com/topology/rest/1.0/
 file/get/2247955864?profile=original
ATTENDEE;ROLE=REQ-PARTICIPANT;PARTSTAT=ACCEPTED;RSVP=TRUE;CN="Staff Pi
 ck":https://trueskool.com/profile/Ren
END:VEVENT
END:VCALENDAR
