BEGIN:VCALENDAR
PRODID:NingEventWidget-v1
VERSION:2.0
METHOD:PUBLISH
BEGIN:VTIMEZONE
TZID:America/Los_Angeles
X-LIC-LOCATION:America/Los_Angeles
BEGIN:DAYLIGHT
TZOFFSETFROM:-0800
TZOFFSETTO:-0700
TZNAME:PDT
DTSTART:19700308T020000
RRULE:FREQ=YEARLY;BYMONTH=3;BYDAY=2SU
END:DAYLIGHT
BEGIN:STANDARD
TZOFFSETFROM:-0700
TZOFFSETTO:-0800
TZNAME:PST
DTSTART:19701101T020000
RRULE:FREQ=YEARLY;BYMONTH=11;BYDAY=1SU
END:STANDARD
END:VTIMEZONE
BEGIN:VEVENT
UID:1464587:Event:264128
DTSTAMP:20260421T123842Z
SUMMARY:Smokers Club Details: Smokers Club, Joey Bada$$, Chevy Woods, 
 Ab Soul, The Underachievers (Philadelphia)
DESCRIPTION:\nSmokers Club\nDetails: Smokers Club, Joey Bada$$, Chevy 
 Woods, Ab Soul, The Underachievers\n\n\nTheatre of Living Arts Philade
 lphia, PA\n\nSat, 11/30/1308:00 PM\n\nFind Tickets »on Live Nation\n
 \n\n\n\n\nFor more information visit https://trueskool.com/events/smok
 ers-club-details-smokers-club-joey-bada-chevy-woods-ab-soul-t
DTSTART;TZID=America/Los_Angeles:20131130T210000
DTEND;TZID=America/Los_Angeles:20131130T230000
CATEGORIES:philadephia
LOCATION:Theatre of Living Arts
WEBSITE:http://www.ticketmaster.com/partner_redirect?v=P1NWL9JaTbbbhJH
 PfG391IFM7_pRfY_AbKgv6OTd6vdewsRlqU1E7R2n5pcqwawC5m2C8ycli_gnocCvcKqaF
 FBRiRkzHK_K1ZR-nqgGYLBrmOOCgZ09hBcz-H8B82CAg2LagA&eventid=02004B192B3C
 C697&artistid=1744232&artistname=Smokers%20Club&crosssite=TM_US:174423
 2:16388&tm_link=browse_msg-0_02004B192B3CC697
URL:http://www.ticketmaster.com/partner_redirect?v=P1NWL9JaTbbbhJHPfG3
 91IFM7_pRfY_AbKgv6OTd6vdewsRlqU1E7R2n5pcqwawC5m2C8ycli_gnocCvcKqaFFBRi
 RkzHK_K1ZR-nqgGYLBrmOOCgZ09hBcz-H8B82CAg2LagA&eventid=02004B192B3CC697
 &artistid=1744232&artistname=Smokers%20Club&crosssite=TM_US:1744232:16
 388&tm_link=browse_msg-0_02004B192B3CC697
CONTACT:
ORGANIZER;CN="Staff Pick":https://trueskool.com/profile/Ren
ATTACH;FMTTYPE="image/jpeg":http://storage.ning.com/topology/rest/1.0/
 file/get/2247951040?profile=original
ATTENDEE;ROLE=REQ-PARTICIPANT;PARTSTAT=ACCEPTED;RSVP=TRUE;CN="Staff Pi
 ck":https://trueskool.com/profile/Ren
END:VEVENT
END:VCALENDAR
