BEGIN:VCALENDAR
PRODID:NingEventWidget-v1
VERSION:2.0
METHOD:PUBLISH
BEGIN:VTIMEZONE
TZID:America/Los_Angeles
X-LIC-LOCATION:America/Los_Angeles
BEGIN:DAYLIGHT
TZOFFSETFROM:-0800
TZOFFSETTO:-0700
TZNAME:PDT
DTSTART:19700308T020000
RRULE:FREQ=YEARLY;BYMONTH=3;BYDAY=2SU
END:DAYLIGHT
BEGIN:STANDARD
TZOFFSETFROM:-0700
TZOFFSETTO:-0800
TZNAME:PST
DTSTART:19701101T020000
RRULE:FREQ=YEARLY;BYMONTH=11;BYDAY=1SU
END:STANDARD
END:VTIMEZONE
BEGIN:VEVENT
UID:1464587:Event:674929
DTSTAMP:20260421T052939Z
SUMMARY:SMOKED OUT SOUL: REGGAE SOUL SOUND CLASH ft. DJ Sep (DubMissio
 n), Freshislife, + SOS Players: Zebuel, Will Magid, Paul Oliphant, Bra
 ndon Lee, Enrique Padilla
DESCRIPTION: SMOKED OUT SOUL in a REGGAE SOUL SOUND CLASH ft. DJ Sep 
 (DubMission)& Freshislife: Thurs 5/31/18 $5-$10    DJ / instrumental
 ists Zebuel and Will Magid are joined by drummers Paul Oliphant, Brand
 on Lee and Enrique Padilla to bring you a sound that is both classic a
 nd futuristic: “Old School Taste, New School Bass”. S.O.S. blurs t
 he line between a live show and a DJ night, bringing in the bay’s fi
 nest musicians and DJ’s playing on one of the top rated sound system
 s in the country.  Add in some DubMission and you got a Reggae Soul S
 ound CLASH!  Early Bird Discount TiX....   https://www.facebook.com
 /events/364210770653406/?active_tab=about\n\nFor more information visi
 t https://trueskool.com/events/smoked-out-soul-reggae-soul-sound-clash
 -ft-dj-sep-dubmission
DTSTART;TZID=America/Los_Angeles:20180531T220000
DTEND;TZID=America/Los_Angeles:20180601T020000
CATEGORIES:monarch
LOCATION:Monarch, San Francisco, CA
WEBSITE:https://www.ticketfly.com/purchase/event/1690935?utm_medium=am
 pOfficialEvent&amp;amp;amp;amp;amp;amp;utm_source=fbTfly
URL:https://www.ticketfly.com/purchase/event/1690935?utm_medium=ampOff
 icialEvent&amp;amp;amp;amp;amp;amp;utm_source=fbTfly
CONTACT:
ORGANIZER;CN="Phillip Ranelli":https://trueskool.com/profile/PhillipRa
 nelli
ATTACH;FMTTYPE="image/jpeg":http://storage.ning.com/topology/rest/1.0/
 file/get/2248006696?profile=original
ATTENDEE;ROLE=REQ-PARTICIPANT;PARTSTAT=ACCEPTED;RSVP=TRUE;CN="Phillip 
 Ranelli":https://trueskool.com/profile/PhillipRanelli
END:VEVENT
END:VCALENDAR
