BEGIN:VCALENDAR
PRODID:NingEventWidget-v1
VERSION:2.0
METHOD:PUBLISH
BEGIN:VTIMEZONE
TZID:America/Los_Angeles
X-LIC-LOCATION:America/Los_Angeles
BEGIN:DAYLIGHT
TZOFFSETFROM:-0800
TZOFFSETTO:-0700
TZNAME:PDT
DTSTART:19700308T020000
RRULE:FREQ=YEARLY;BYMONTH=3;BYDAY=2SU
END:DAYLIGHT
BEGIN:STANDARD
TZOFFSETFROM:-0700
TZOFFSETTO:-0800
TZNAME:PST
DTSTART:19701101T020000
RRULE:FREQ=YEARLY;BYMONTH=11;BYDAY=1SU
END:STANDARD
END:VTIMEZONE
BEGIN:VEVENT
UID:1464587:Event:674447
DTSTAMP:20260422T153601Z
SUMMARY:Smoked Out Soul Bingo ft. The Great Bingo Revival
DESCRIPTION:Smoked Out Bingo ft. The Great Bingo Revival\nThursday Ap
 r 26, 2018  10:00 PM  $5 - $10\n\nTake advantage of the early bird 
 discount tix!  \nMonarch  101 6th St  San Francisco, California (
 CA)\n\nSmoke Out Soul (SOS) blends guitar over funk remix DJ sets addi
 ng live drums, horns and percussion is a weekly one of kind party held
  at Monarch 101 6th Street in San Francisco every Thursday. DJ / instr
 umentalists Zebuel and Will Magid are joined by drummers Paul Oliphant
  and Brandon Lee to bring you a sound that is both classic and futuris
 tic: “Old School Taste, New School Bass”. S.O.S. blurs the line be
 tween a live show and a DJ night!    DANCE --\n\nFor more informatio
 n visit https://trueskool.com/events/smoked-out-soul-bingo-ft-the-grea
 t-bingo-revival
DTSTART;TZID=America/Los_Angeles:20180426T220000
DTEND;TZID=America/Los_Angeles:20180427T020000
CATEGORIES:"san francisco"
LOCATION:Monarch, San Francisco, Ca
WEBSITE:https://www.ticketfly.com/purchase/event/1677831?utm_medium=am
 pOfficialEvent&amp;utm_source=fbTfly
URL:https://www.ticketfly.com/purchase/event/1677831?utm_medium=ampOff
 icialEvent&amp;utm_source=fbTfly
CONTACT:
ORGANIZER;CN="Phillip Ranelli":https://trueskool.com/profile/PhillipRa
 nelli
ATTACH;FMTTYPE="image/jpeg":http://storage.ning.com/topology/rest/1.0/
 file/get/2248006291?profile=original
ATTENDEE;ROLE=REQ-PARTICIPANT;PARTSTAT=ACCEPTED;RSVP=TRUE;CN="Phillip 
 Ranelli":https://trueskool.com/profile/PhillipRanelli
END:VEVENT
END:VCALENDAR
