BEGIN:VCALENDAR
PRODID:NingEventWidget-v1
VERSION:2.0
METHOD:PUBLISH
BEGIN:VTIMEZONE
TZID:America/Los_Angeles
X-LIC-LOCATION:America/Los_Angeles
BEGIN:DAYLIGHT
TZOFFSETFROM:-0800
TZOFFSETTO:-0700
TZNAME:PDT
DTSTART:19700308T020000
RRULE:FREQ=YEARLY;BYMONTH=3;BYDAY=2SU
END:DAYLIGHT
BEGIN:STANDARD
TZOFFSETFROM:-0700
TZOFFSETTO:-0800
TZNAME:PST
DTSTART:19701101T020000
RRULE:FREQ=YEARLY;BYMONTH=11;BYDAY=1SU
END:STANDARD
END:VTIMEZONE
BEGIN:VEVENT
UID:1464587:Event:275963
DTSTAMP:20260421T033051Z
SUMMARY:Smif-N-Wessun (NYC)
DESCRIPTION:Smif-N-Wessun\nMercury Lounge, New York, NY\nMon, Dec 
 2, 2013 08:00 PM\nPlease Note: 21 AND OVER WITH ID\n \n\nFor more in
 formation visit https://trueskool.com/events/smif-n-wessun-nyc
DTSTART;TZID=America/Los_Angeles:20131202T200000
DTEND;TZID=America/Los_Angeles:20131202T230000
CATEGORIES:nyc
LOCATION:Mercury Loung, New York
WEBSITE:http://www.ticketmaster.com/smifnwessun-new-york-new-york-12-0
 2-2013/event/00004B5EFC8E82E1?artistid=773267&majorcatid=10001&minorca
 tid=3&tm_link=artist_msg-0_00004B5EFC8E82E1
URL:http://www.ticketmaster.com/smifnwessun-new-york-new-york-12-02-20
 13/event/00004B5EFC8E82E1?artistid=773267&majorcatid=10001&minorcatid=
 3&tm_link=artist_msg-0_00004B5EFC8E82E1
CONTACT:
ORGANIZER;CN="Editor's Pick":https://trueskool.com/profile/RentheVinyl
 Archaeologist
ATTACH;FMTTYPE="image/jpeg":http://storage.ning.com/topology/rest/1.0/
 file/get/2247953569?profile=original
ATTENDEE;ROLE=REQ-PARTICIPANT;PARTSTAT=ACCEPTED;RSVP=TRUE;CN="Editor's
  Pick":https://trueskool.com/profile/RentheVinylArchaeologist
END:VEVENT
END:VCALENDAR
