BEGIN:VCALENDAR
PRODID:NingEventWidget-v1
VERSION:2.0
METHOD:PUBLISH
BEGIN:VTIMEZONE
TZID:America/Los_Angeles
X-LIC-LOCATION:America/Los_Angeles
BEGIN:DAYLIGHT
TZOFFSETFROM:-0800
TZOFFSETTO:-0700
TZNAME:PDT
DTSTART:19700308T020000
RRULE:FREQ=YEARLY;BYMONTH=3;BYDAY=2SU
END:DAYLIGHT
BEGIN:STANDARD
TZOFFSETFROM:-0700
TZOFFSETTO:-0800
TZNAME:PST
DTSTART:19701101T020000
RRULE:FREQ=YEARLY;BYMONTH=11;BYDAY=1SU
END:STANDARD
END:VTIMEZONE
BEGIN:VEVENT
UID:1464587:Event:68719
DTSTAMP:20260420T132202Z
SUMMARY:SMBTB California Music Industry Summit Mixer
DESCRIPTION:\nRSVP BEFORE NOVEMBER 9, 2010 TO GET THE ONLINE RATE $10 
 @ http://smbtbcaliforniamusicindustrysummit.eventbrite.com/ (Paypal, D
 ebit or Credit, Or $20 at the door).\n\n\nDate: Thursday November 11, 
 2010\nTime: 6 pm to 9 pm\nLocation: 926 B street Hayward, CA 94541 (51
 0) 538-1012\n\nWant to connect informally with the local music industr
 y community? Come to ME Restaurant and Lounge for drinks, and some net
 working with your peers. Expand your contacts with leading players in 
 the music industry and the staff of SMBTB California Music Industry Su
 mmit.\n\nSMBTB California Music Industry Summit is a 2-day educational
  summit with panel discussions, roundtable discussions, workshops, and
  showcases of the best musicians from every genre under one roof.\n\nR
 SVP BEFORE NOVEMBER 9, 2010 TO GET THE ONLINE RATE $10 @ http://smbtbc
 aliforniamusicindustrysummit.eventbrite.com/\n\nSpecial Guest: Morpheu
 s B (Brian K. Saunders), be the first to hear his new CD, \"Love After
  Dark\", and Double O.\n\nPlease note that tickets, if available, will
  be $20 at the door.\n\n2 Tacos and Tequila shots for $5\nMusic\nDoor 
 Prizes\n\nFor more information visit https://trueskool.com/events/smbt
 b-california-music
DTSTART;TZID=America/Los_Angeles:20101111T180000
DTEND;TZID=America/Los_Angeles:20101111T210000
CATEGORIES:hayward, ca
LOCATION:ME Restaurant and Lounge
WEBSITE:http://www.me-restaurantlounge.com/
URL:http://www.me-restaurantlounge.com/
CONTACT:510-538-1012
ORGANIZER;CN="California Music Industry Summit":https://trueskool.com/
 profile/SMBTBCAMusicIndustrySummit
ATTACH;FMTTYPE="image/jpeg":http://storage.ning.com/topology/rest/1.0/
 file/get/2247884659?profile=original
ATTENDEE;ROLE=REQ-PARTICIPANT;PARTSTAT=ACCEPTED;RSVP=TRUE;CN="Californ
 ia Music Industry Summit":https://trueskool.com/profile/SMBTBCAMusicIn
 dustrySummit
END:VEVENT
END:VCALENDAR
