BEGIN:VCALENDAR
PRODID:NingEventWidget-v1
VERSION:2.0
METHOD:PUBLISH
BEGIN:VTIMEZONE
TZID:America/Los_Angeles
X-LIC-LOCATION:America/Los_Angeles
BEGIN:DAYLIGHT
TZOFFSETFROM:-0800
TZOFFSETTO:-0700
TZNAME:PDT
DTSTART:19700308T020000
RRULE:FREQ=YEARLY;BYMONTH=3;BYDAY=2SU
END:DAYLIGHT
BEGIN:STANDARD
TZOFFSETFROM:-0700
TZOFFSETTO:-0800
TZNAME:PST
DTSTART:19701101T020000
RRULE:FREQ=YEARLY;BYMONTH=11;BYDAY=1SU
END:STANDARD
END:VTIMEZONE
BEGIN:VEVENT
UID:1464587:Event:508156
DTSTAMP:20260421T125549Z
SUMMARY:Sly & The Family Stone's \"Stand!\"
DESCRIPTION: Saturday, January 24 \nUnderCover & Faultline Studios pre
 sent\nSly & The Family Stone's \"Stand!\"\nA Tribute involving 9 bands
 , over 175 musicians, and members of Sly & The Family Stone\nFox Theat
 er Oakland, CA \n8:00PM\nPurchase tickets\n\nFor more information visi
 t https://trueskool.com/events/sly-the-family-stone-s-stand
DTSTART;TZID=America/Los_Angeles:20150124T200000
DTEND;TZID=America/Los_Angeles:20150124T230000
CATEGORIES:"bay area", "san francisco"
LOCATION:Fox Theater, Oakland
WEBSITE:http://www.ticketmaster.com/event/1C004D6701C86C95?brand=anoth
 erplanet&camefrom=CFC_ANOTHERPLANET
URL:http://www.ticketmaster.com/event/1C004D6701C86C95?brand=anotherpl
 anet&camefrom=CFC_ANOTHERPLANET
CONTACT:
ORGANIZER:Another Planet Ent
ATTACH;FMTTYPE="image/jpeg":http://storage.ning.com/topology/rest/1.0/
 file/get/2247972797?profile=original
ATTENDEE;ROLE=REQ-PARTICIPANT;PARTSTAT=ACCEPTED;RSVP=TRUE;CN="Editor's
  Pick":https://trueskool.com/profile/RentheVinylArchaeologist
END:VEVENT
END:VCALENDAR
