BEGIN:VCALENDAR
PRODID:NingEventWidget-v1
VERSION:2.0
METHOD:PUBLISH
BEGIN:VTIMEZONE
TZID:America/Los_Angeles
X-LIC-LOCATION:America/Los_Angeles
BEGIN:DAYLIGHT
TZOFFSETFROM:-0800
TZOFFSETTO:-0700
TZNAME:PDT
DTSTART:19700308T020000
RRULE:FREQ=YEARLY;BYMONTH=3;BYDAY=2SU
END:DAYLIGHT
BEGIN:STANDARD
TZOFFSETFROM:-0700
TZOFFSETTO:-0800
TZNAME:PST
DTSTART:19701101T020000
RRULE:FREQ=YEARLY;BYMONTH=11;BYDAY=1SU
END:STANDARD
END:VTIMEZONE
BEGIN:VEVENT
UID:1464587:Event:32708
DTSTAMP:20260422T170018Z
SUMMARY:Sly & Robbie, Heavyweight Dub Champion
DESCRIPTION:\nSly & Robbie\nHeavyweight Dub Champion\n\nThe Independen
 t\n628 Divisadero (btwn Grove & Hayes)\nSan Francisco CA 94117\ndoors 
 8:30PM\nshow 9:00PM\n\nFor more information visit https://trueskool.co
 m/events/sly-robbie-heavyweight-dub
DTSTART;TZID=America/Los_Angeles:20090618T203000
DTEND;TZID=America/Los_Angeles:20090619T020000
CATEGORIES:reggae, dancehall, dub, roots
LOCATION:The Independent, San Francisco, CA
WEBSITE:http://www.apeconcerts.com/popArtist07.cfm?cID=1893
URL:http://www.apeconcerts.com/popArtist07.cfm?cID=1893
CONTACT:
ORGANIZER:Another Planet Ent.
ATTACH;FMTTYPE="image/jpeg":http://storage.ning.com/topology/rest/1.0/
 file/get/2247857519?profile=original
ATTENDEE;ROLE=REQ-PARTICIPANT;PARTSTAT=ACCEPTED;RSVP=TRUE;CN="Ren the 
 Vinyl Archaeologist":https://trueskool.com/profile/xh51jvilojur
END:VEVENT
END:VCALENDAR
