BEGIN:VCALENDAR
PRODID:NingEventWidget-v1
VERSION:2.0
METHOD:PUBLISH
BEGIN:VTIMEZONE
TZID:America/Los_Angeles
X-LIC-LOCATION:America/Los_Angeles
BEGIN:DAYLIGHT
TZOFFSETFROM:-0800
TZOFFSETTO:-0700
TZNAME:PDT
DTSTART:19700308T020000
RRULE:FREQ=YEARLY;BYMONTH=3;BYDAY=2SU
END:DAYLIGHT
BEGIN:STANDARD
TZOFFSETFROM:-0700
TZOFFSETTO:-0800
TZNAME:PST
DTSTART:19701101T020000
RRULE:FREQ=YEARLY;BYMONTH=11;BYDAY=1SU
END:STANDARD
END:VTIMEZONE
BEGIN:VEVENT
UID:1464587:Event:60028
DTSTAMP:20260421T024036Z
SUMMARY:Sly & Robbie and The Taxi Gang w/opener DJ Funklor
DESCRIPTION:Sly & Robbie and The Taxi Gang w/opener DJ Funklor\nJul 26
 -Jul 27, 2010\n\nThe legendary Roots Reggae \"Riddim Twins\"\n\nOpen D
 ance Floor!\n\nDoors open at 7:15PM\n\n\n\nMonday\n\n8PM Show: $26\n\n
 Tuesday\n\n8PM Show: $26\n\nFor more information visit https://truesko
 ol.com/events/sly-robbie-and-the-taxi-gang-1
DTSTART;TZID=America/Los_Angeles:20100727T191500
DTEND;TZID=America/Los_Angeles:20100727T230000
CATEGORIES:dancehall, reggae
LOCATION:Yoshi's, San Francisco, CA
WEBSITE:http://yoshis.com/sanfrancisco/jazzclub/artist/show/1361
URL:http://yoshis.com/sanfrancisco/jazzclub/artist/show/1361
CONTACT:
ORGANIZER;CN="Editor's Pick":https://trueskool.com/profile/RentheVinyl
 Archaeologist
ATTACH;FMTTYPE="image/jpeg":http://storage.ning.com/topology/rest/1.0/
 file/get/2247880286?profile=original
ATTENDEE;ROLE=REQ-PARTICIPANT;PARTSTAT=ACCEPTED;RSVP=TRUE;CN="Editor's
  Pick":https://trueskool.com/profile/RentheVinylArchaeologist
END:VEVENT
END:VCALENDAR
