BEGIN:VCALENDAR
PRODID:NingEventWidget-v1
VERSION:2.0
METHOD:PUBLISH
BEGIN:VTIMEZONE
TZID:America/Los_Angeles
X-LIC-LOCATION:America/Los_Angeles
BEGIN:DAYLIGHT
TZOFFSETFROM:-0800
TZOFFSETTO:-0700
TZNAME:PDT
DTSTART:19700308T020000
RRULE:FREQ=YEARLY;BYMONTH=3;BYDAY=2SU
END:DAYLIGHT
BEGIN:STANDARD
TZOFFSETFROM:-0700
TZOFFSETTO:-0800
TZNAME:PST
DTSTART:19701101T020000
RRULE:FREQ=YEARLY;BYMONTH=11;BYDAY=1SU
END:STANDARD
END:VTIMEZONE
BEGIN:VEVENT
UID:1464587:Event:828297
DTSTAMP:20260421T140435Z
SUMMARY:Slightly Stoopid & Dirty Heads w/ The Elovaters
DESCRIPTION:Slightly Stoopid & Dirty Heads w/ The Elovaters\r\nFri, Au
 g 23, 2024 at 6:00 PM\r\nShoreline Amphitheatre One Amphitheatre Pkwy,
  Mountain View, CA 94043\n\nFor more information visit https://truesko
 ol.com/events/slightly-stoopid-dirty-heads-w-the-elovaters
DTSTART;TZID=America/Los_Angeles:20240823T180000
DTEND;TZID=America/Los_Angeles:20240823T233000
CATEGORIES:"bay area", oakland, "san francisco", "san jose", berkeley
LOCATION:Shoreline Amphitheatre, Mountain View
WEBSITE:https://www.ticketsonsale.com/tickets/dirty-heads-and-slightly
 -stoopid-shoreline-amphitheatre-ca-mountain-view-6-7-2024-4855671
URL:https://www.ticketsonsale.com/tickets/dirty-heads-and-slightly-sto
 opid-shoreline-amphitheatre-ca-mountain-view-6-7-2024-4855671
CONTACT:
ORGANIZER;CN="Editor's Pick":https://trueskool.com/profile/RentheVinyl
 Archaeologist
ATTACH;FMTTYPE="image/jpeg":https://storage.ning.com/topology/rest/1.0
 /file/get/12398725269?profile=original
ATTENDEE;ROLE=REQ-PARTICIPANT;PARTSTAT=ACCEPTED;RSVP=TRUE;CN="Editor's
  Pick":https://trueskool.com/profile/RentheVinylArchaeologist
END:VEVENT
END:VCALENDAR
